BEGIN:VCALENDAR
VERSION:2.0
PRODID:-//wp-events-plugin.com//7.2.3.1//EN
TZID:America/New_York
X-WR-TIMEZONE:America/New_York
BEGIN:VEVENT
UID:155356@kingstonhappenings.org
DTSTART;TZID=America/New_York:20260221T210000
DTEND;TZID=America/New_York:20260221T210000
DTSTAMP:20260218T165158Z
URL:https://kingstonhappenings.org/events/sin-verguenza-iii/
SUMMARY:SIN VERGÜENZA III
DESCRIPTION:Hello ravers! Sin Vergüenza returns for its third year.\n\nPr
 esented by Assembly and Kingston Techno\, Sin Vergüenza III is an alterna
 tive Valentine’s Day techno night centered on loving yourself - Sin Verg
 üenza (without shame)!\n\nHawx\, Jams Bond\, and Leena hold the room spin
 ning deep\, sensual\, and driving techno. Immersive visuals and art instal
 lations shape the space and shift perception.\n\nThis year’s focus turns
  inward: romance.\n\nWhat does it mean to romance yourself?\n\nCan you be 
 the object of your own unabashed desire?\n\nCan you meet yourself and your
  body with curiosity\, passion\, and care?\n\nJoin us on February 21st for
  a night of movement\, release\, connection\, and self-celebration - Sin V
 ergüenza.\n\nTickets: $15 early release (Until 2/6) / $20 advance / $2
 5 day of / door\n\nConsent &amp\; Community Guidelines\nConsent is sexy\, 
 and respect is rule number one. We want to welcome folks to co-create a sa
 fe and intentional dance floor where we can all express our energy and ide
 ntity freely. No is no. We will not tolerate racism\, homophobia\, transph
 obia\, bigotry\, or non-consensual interactions of any kind. Be mindful of
  yourself and others—we’re a community looking out for one another.\n\
 nWarning: There will be NSFW visuals\, explicit lyrics\, strobes\, and fl
 ashing lights. While sensual and sexual dancing—solo or consensual—is 
 encouraged\, this is not a sex party. Any non-consensual behavior or viola
 tions of these guidelines will result in removal from the event.\n\nOur go
 al is to create a liberated\, intimate electronic dance space in Kingston 
 where love for yourself can come easy\, without shame—whatever that mean
 s for you on the dance floor.\n\nCome solo. Come with lovers. Come as you 
 are.\n\nSee you there. &#x1f48b\;
ATTACH;FMTTYPE=image/jpeg:https://kingstonhappenings.org/wp-content/upload
 s/2026/02/308b4bbc-ee0c-4b7c-ba2b-826ecde4b5d9.jpg
CATEGORIES:@Featured,@Newsletter,Music,Nightlife and entertainment
LOCATION:Assembly\, 236 Wall St. 3rd Floor\, KINGSTON\, NY\, 12401\, United
  States
GEO:41.931738;-74.018648
X-APPLE-STRUCTURED-LOCATION;VALUE=URI;X-ADDRESS=236 Wall St. 3rd Floor\, KI
 NGSTON\, NY\, 12401\, United States;X-APPLE-RADIUS=100;X-TITLE=Assembly:ge
 o:41.931738,-74.018648
END:VEVENT
BEGIN:VTIMEZONE
TZID:America/New_York
X-LIC-LOCATION:America/New_York
BEGIN:STANDARD
DTSTART:20251102T010000
TZOFFSETFROM:-0400
TZOFFSETTO:-0500
TZNAME:EST
END:STANDARD
END:VTIMEZONE
END:VCALENDAR