BEGIN:VCALENDAR
VERSION:2.0
PRODID:-//wp-events-plugin.com//7.2.3.1//EN
TZID:America/New_York
X-WR-TIMEZONE:America/New_York
BEGIN:VEVENT
UID:151581@kingstonhappenings.org
DTSTART;TZID=America/New_York:20250917T180000
DTEND;TZID=America/New_York:20250917T193000
DTSTAMP:20250917T013205Z
URL:https://kingstonhappenings.org/events/signed-sealed-still-debated-a-co
 nstitution-day-conversation/
SUMMARY:Signed\, Sealed\, Still Debated: A Constitution Day Conversation
DESCRIPTION:The Constitution is more than famous amendments and familiar ph
 rases\; it’s a living document that continues to shape our rights\, free
 doms\, and responsibilities. Constitution Day\, observed each year on Sept
 ember 17\, marks the signing of the U.S. Constitution in 1787.\n\nJoin Pr
 ofessor Roger Berkowitz\, Founder and Academic Director of the Hannah Are
 ndt Center at Bard College\, as he takes us beyond the usual talking poin
 ts to explore what the Constitution really means for us today.\n&nbsp\;\n\
 nBring your questions for a lively Q&amp\;A afterward. No registration n
 eeded. The first 10 attendees will also receive a free pocket Constitutio
 n.
ATTACH;FMTTYPE=image/jpeg:https://kingstonhappenings.org/wp-content/upload
 s/2025/08/Constitution-Day-KHAP-1.png
CATEGORIES:@Featured,@Newsletter,Community,Educational classes and
 lectures,For seniors,History
LOCATION:Kingston Library\, 61 Crown St\, Kingston\, NY\, 12401\, United St
 ates
GEO:41.934381;-74.021982
X-APPLE-STRUCTURED-LOCATION;VALUE=URI;X-ADDRESS=61 Crown St\, Kingston\, NY
 \, 12401\, United States;X-APPLE-RADIUS=100;X-TITLE=Kingston Library:geo:4
 1.934381,-74.021982
END:VEVENT
BEGIN:VTIMEZONE
TZID:America/New_York
X-LIC-LOCATION:America/New_York
BEGIN:DAYLIGHT
DTSTART:20250309T030000
TZOFFSETFROM:-0500
TZOFFSETTO:-0400
TZNAME:EDT
END:DAYLIGHT
END:VTIMEZONE
END:VCALENDAR