BEGIN:VCALENDAR
VERSION:2.0
PRODID:-//wp-events-plugin.com//7.2.3.1//EN
TZID:America/New_York
X-WR-TIMEZONE:America/New_York
BEGIN:VEVENT
UID:156103@kingstonhappenings.org
DTSTART;TZID=America/New_York:20260601T100000
DTEND;TZID=America/New_York:20260601T220000
DTSTAMP:20260331T220632Z
URL:https://kingstonhappenings.org/events/show-tell/
SUMMARY:Show & Tell
DESCRIPTION:Kingston’s local arts and literary magazine Show &amp\; Tell 
 is returning and seeking submissions! Show &amp\; Tell aims to celebrate t
 he various creative works made by the diverse perspectives within Kingston
 . Submit your visual and written works before submissions close June 1st. 
 Submission Link- https://drive.google.com/file/d/1B6iNKS5aBDipg2-d9eHO5hdM
 xfOPK_Qf/view\n\nContact showandtellzine@mkad.art for more information.
ATTACH;FMTTYPE=image/jpeg:https://kingstonhappenings.org/wp-content/upload
 s/2026/03/ShowTell.jpg
CATEGORIES:@Featured,Art
LOCATION:Neighborhood Print Studio\, 49 Greenkill Avenue\, Kingston\, NY\, 
 12401\, United Kingdom
GEO:41.927819;-74.004441
X-APPLE-STRUCTURED-LOCATION;VALUE=URI;X-ADDRESS=49 Greenkill Avenue\, Kings
 ton\, NY\, 12401\, United Kingdom;X-APPLE-RADIUS=100;X-TITLE=Neighborhood 
 Print Studio:geo:41.927819,-74.004441
END:VEVENT
BEGIN:VTIMEZONE
TZID:America/New_York
X-LIC-LOCATION:America/New_York
BEGIN:DAYLIGHT
DTSTART:20260308T030000
TZOFFSETFROM:-0500
TZOFFSETTO:-0400
TZNAME:EDT
END:DAYLIGHT
END:VTIMEZONE
END:VCALENDAR