BEGIN:VCALENDAR
VERSION:2.0
PRODID:-//wp-events-plugin.com//7.2.3.1//EN
TZID:America/New_York
X-WR-TIMEZONE:America/New_York
BEGIN:VEVENT
UID:152790@kingstonhappenings.org
DTSTART;TZID=America/New_York:20251213T193000
DTEND;TZID=America/New_York:20251213T210000
DTSTAMP:20251208T204604Z
URL:https://kingstonhappenings.org/events/shared-stage/
SUMMARY:Shared Stage
DESCRIPTION:\n\n\nJoin us for a delightful evening of short performances! T
 his special evening features 3-6 performances\, each 10-20 minutes long fr
 om artists of different disciplines. This is a chance for artists to share
  work\, or excerpts of their work\, alongside other artists. Audiences wil
 l be given the option to write a note for each artist\, sharing their expe
 rience of the work. This is a wonderful opportunity for artists to receive
  feedback about the impact of their work\, and for audiences to feel into 
 the impact of each piece. The mixture of pieces – from dance\, to music\
 , to theater\, to visual art\, to experimental art – makes for a fun\, i
 nspiring\, and diverse evening.\n\n\n\n\nGet Tickets\n\n\n\nIn December we
  are thrilled to present a variety of theater and dance created and perfor
 med by local artists ⎯ Rod Sauquillo\, Stephen Park and Kelly Coffield P
 ark\, Gathering Wild\, Leighann Kowalsky\, Natalie Deryn Johnson\, and Gle
 nna Yu.\n\n$5-25 sliding scale tickets.
ATTACH;FMTTYPE=image/jpeg:https://kingstonhappenings.org/wp-content/upload
 s/2025/11/Gray-White-Modern-Fashion-Promo-YouTube-Horizontal-Ad-2.png
CATEGORIES:@Featured,@Newsletter,Community,Theater
LOCATION:WildHeart: Center for Performance and Embodiment Practice\, 183 Ea
 st Road\, Wallkill\, NY\, 12589\, United States
GEO:41.588939;-74.05362
X-APPLE-STRUCTURED-LOCATION;VALUE=URI;X-ADDRESS=183 East Road\, Wallkill\, 
 NY\, 12589\, United States;X-APPLE-RADIUS=100;X-TITLE=WildHeart: Center fo
 r Performance and Embodiment Practice:geo:41.588939,-74.05362
END:VEVENT
BEGIN:VTIMEZONE
TZID:America/New_York
X-LIC-LOCATION:America/New_York
BEGIN:STANDARD
DTSTART:20251102T010000
TZOFFSETFROM:-0400
TZOFFSETTO:-0500
TZNAME:EST
END:STANDARD
END:VTIMEZONE
END:VCALENDAR