BEGIN:VCALENDAR
VERSION:2.0
PRODID:-//wp-events-plugin.com//7.2.3.1//EN
TZID:America/New_York
X-WR-TIMEZONE:America/New_York
BEGIN:VEVENT
UID:155820@kingstonhappenings.org
DTSTART;TZID=America/New_York:20260315T093000
DTEND;TZID=America/New_York:20260315T093000
DTSTAMP:20260309T170613Z
URL:https://kingstonhappenings.org/events/shamrock-gravel-run/
SUMMARY:Shamrock Gravel Run
DESCRIPTION:Mixed terrain ride in and around the city of Kingston. Later th
 e ride will arrive to the start(12:50pm sharp) of the Shamrock Run. We'll 
 follow runners down Broadway then jump off at Revolution for drinks and co
 rned beef &amp\; cabbage..***Please in the comments say "Going"***need mak
 e sure we have enough food and drink.*** Vegetarians there will be meat &a
 mp\; potatoes if you like please bring a share dish......thank you!***.Mil
 eage around 20 give or takeModerate to Difficult
ATTACH;FMTTYPE=image/jpeg:https://kingstonhappenings.org/wp-content/upload
 s/2026/03/646531495_1526115962851216_2524051654693135197_n.jpg
CATEGORIES:@Featured,@Newsletter,Sports and recreation
LOCATION:Kingston\, NY\, 1 FakeStreetNameSoCheckDetail\, Kingston\, NY\, 12
 401\, United States
GEO:41.9270367;-73.99736080000002
X-APPLE-STRUCTURED-LOCATION;VALUE=URI;X-ADDRESS=1 FakeStreetNameSoCheckDeta
 il\, Kingston\, NY\, 12401\, United States;X-APPLE-RADIUS=100;X-TITLE=King
 ston\, NY:geo:41.9270367,-73.99736080000002
END:VEVENT
BEGIN:VTIMEZONE
TZID:America/New_York
X-LIC-LOCATION:America/New_York
BEGIN:DAYLIGHT
DTSTART:20260308T030000
TZOFFSETFROM:-0500
TZOFFSETTO:-0400
TZNAME:EDT
END:DAYLIGHT
END:VTIMEZONE
END:VCALENDAR