BEGIN:VCALENDAR
VERSION:2.0
PRODID:-//wp-events-plugin.com//7.2.3.1//EN
TZID:America/New_York
X-WR-TIMEZONE:America/New_York
BEGIN:VEVENT
UID:152303@kingstonhappenings.org
DTSTART;TZID=America/New_York:20251016T200000
DTEND;TZID=America/New_York:20251016T200000
DTSTAMP:20251013T172036Z
URL:https://kingstonhappenings.org/events/shakedown-citi-celebrating-the-m
 usic-of-the-grateful-dead/
SUMMARY:Shakedown Citi - Celebrating The Music of The Grateful Dead
DESCRIPTION:Shakedown Citi are seasoned\, full-time musicians / singer-stor
 ytellers / Grateful Dead nerds from New York City with a deep love and pas
 sion for the Dead and all affiliated catalogues. Dream setlists\, high-ene
 rgy vibes\, amazing jams and improvisation while channeling the spirit and
  energy of the Dead without trying to copy them.Shakedown Citi first met i
 n the Shakedown Street parking lot of Citi Field one afternoon in 2023 and
  had the instant lightning-in-a-bottle chemistry that happens once in a li
 fetime. The legend continues to grow from there...\nhttp://shakedownciti.c
 om/
ATTACH;FMTTYPE=image/jpeg:https://kingstonhappenings.org/wp-content/upload
 s/2025/10/556862453_122221598984089628_5901769636409743641_n.jpg
CATEGORIES:@Featured,@Newsletter,Music,Nightlife and entertainment
LOCATION:Colony Woodstock NY\, 22 Rock City Rd\, Woodstock\, New York\, Uni
 ted States
GEO:42.0424924;-74.11799489999999
X-APPLE-STRUCTURED-LOCATION;VALUE=URI;X-ADDRESS=22 Rock City Rd\, Woodstock
 \, New York\, United States;X-APPLE-RADIUS=100;X-TITLE=Colony Woodstock NY
 :geo:42.0424924,-74.11799489999999
END:VEVENT
BEGIN:VTIMEZONE
TZID:America/New_York
X-LIC-LOCATION:America/New_York
BEGIN:DAYLIGHT
DTSTART:20250309T030000
TZOFFSETFROM:-0500
TZOFFSETTO:-0400
TZNAME:EDT
END:DAYLIGHT
END:VTIMEZONE
END:VCALENDAR