BEGIN:VCALENDAR
VERSION:2.0
PRODID:-//wp-events-plugin.com//7.2.3.1//EN
TZID:America/New_York
X-WR-TIMEZONE:America/New_York
BEGIN:VEVENT
UID:152154@kingstonhappenings.org
DTSTART;TZID=America/New_York:20251010T223000
DTEND;TZID=America/New_York:20251010T223000
DTSTAMP:20251007T130836Z
URL:https://kingstonhappenings.org/events/shadow-witch-plays-o/
SUMMARY:Shadow Witch Plays O+
DESCRIPTION:Line up change to our @opositivefest gig on 10/10 at Snapper Ma
 gee’s .Come see us with @sohideous and @lordsonnytheunifierGonna be good
  one!
ATTACH;FMTTYPE=image/jpeg:https://kingstonhappenings.org/wp-content/upload
 s/2025/10/514260797_1457055659253719_1225118963701385053_n.jpg
CATEGORIES:@Featured,@Newsletter,Music,Nightlife and entertainment
LOCATION:Snapper Magee's\, 59 N. Front St.\, Kingston\, New York\, 12401\, 
 United States
GEO:41.9352932;-74.02125000000001
X-APPLE-STRUCTURED-LOCATION;VALUE=URI;X-ADDRESS=59 N. Front St.\, Kingston\
 , New York\, 12401\, United States;X-APPLE-RADIUS=100;X-TITLE=Snapper Mage
 e's:geo:41.9352932,-74.02125000000001
END:VEVENT
BEGIN:VTIMEZONE
TZID:America/New_York
X-LIC-LOCATION:America/New_York
BEGIN:DAYLIGHT
DTSTART:20250309T030000
TZOFFSETFROM:-0500
TZOFFSETTO:-0400
TZNAME:EDT
END:DAYLIGHT
END:VTIMEZONE
END:VCALENDAR