BEGIN:VCALENDAR
VERSION:2.0
PRODID:-//wp-events-plugin.com//7.2.3.1//EN
TZID:America/New_York
X-WR-TIMEZONE:America/New_York
BEGIN:VEVENT
UID:151987@kingstonhappenings.org
DTSTART;TZID=America/New_York:20250928T160000
DTEND;TZID=America/New_York:20250928T183000
DTSTAMP:20250922T145214Z
URL:https://kingstonhappenings.org/events/september-kingston-jazz-jam/
SUMMARY:September Kingston Jazz Jam
DESCRIPTION:We're coming back strong and swingin' after taking August off. 
 Come celebrate fall with Kingston Jazz Jam. A smokin' house band: Billy Be
 veridge\, keys\; Chris Macchia\, bass\; and Glenn Hoagland\, drums. Instru
 mentalists &amp\; vocalists welcome\; listeners treated like jazz-loving r
 oyalty :-). Complimentary refreshments and a great time guaranteed. https:
 //www.facebook.com/KingstonJazzJam.  https://chromatic-studios.com/event
 /kingston-jazz-jam-september-2025/
ATTACH;FMTTYPE=image/jpeg:https://kingstonhappenings.org/wp-content/upload
 s/2025/09/Sept.-2025-KJJ-flyer.jpg
CATEGORIES:@Featured,@Newsletter,Music
LOCATION:Chromatic Studios\, 71 O'Neil St. \, Kingston\, NY\, 12401\, Unite
 d States
GEO:41.932209;-74.003624
X-APPLE-STRUCTURED-LOCATION;VALUE=URI;X-ADDRESS=71 O'Neil St. \, Kingston\,
  NY\, 12401\, United States;X-APPLE-RADIUS=100;X-TITLE=Chromatic Studios:g
 eo:41.932209,-74.003624
END:VEVENT
BEGIN:VTIMEZONE
TZID:America/New_York
X-LIC-LOCATION:America/New_York
BEGIN:DAYLIGHT
DTSTART:20250309T030000
TZOFFSETFROM:-0500
TZOFFSETTO:-0400
TZNAME:EDT
END:DAYLIGHT
END:VTIMEZONE
END:VCALENDAR