BEGIN:VCALENDAR
VERSION:2.0
PRODID:-//wp-events-plugin.com//7.2.3.1//EN
TZID:America/New_York
X-WR-TIMEZONE:America/New_York
BEGIN:VEVENT
UID:152611@kingstonhappenings.org
DTSTART;TZID=America/New_York:20251203T130000
DTEND;TZID=America/New_York:20251203T150000
DTSTAMP:20251201T191701Z
URL:https://kingstonhappenings.org/events/senior-holiday-gathering/
SUMMARY:Senior Holiday Gathering
DESCRIPTION:Please join us for a Senior Holiday Gathering! This celebration
  is for all who are 60 years young and up. Come out and connect with your 
 peers. Learn about the Senior Social Group and bring your ideas and sugges
 tions for this fun\, friendly group coming in January. Light Refreshments 
 will be provided. Registration is required - speak to a staff member or re
 gister through the library's calendar at townofulsterlibrary.org.
ATTACH;FMTTYPE=image/jpeg:https://kingstonhappenings.org/wp-content/upload
 s/2025/11/IG-Senior-Holiday.png
CATEGORIES:@Featured,@Newsletter,Community,For seniors
LOCATION:Town of Ulster Library\, 860 Ulster Ave.\, Kingston\, New York\, 1
 2401\, United States
GEO:41.9546291;-73.99388220000003
X-APPLE-STRUCTURED-LOCATION;VALUE=URI;X-ADDRESS=860 Ulster Ave.\, Kingston\
 , New York\, 12401\, United States;X-APPLE-RADIUS=100;X-TITLE=Town of Ulst
 er Library:geo:41.9546291,-73.99388220000003
END:VEVENT
BEGIN:VTIMEZONE
TZID:America/New_York
X-LIC-LOCATION:America/New_York
BEGIN:STANDARD
DTSTART:20251102T010000
TZOFFSETFROM:-0400
TZOFFSETTO:-0500
TZNAME:EST
END:STANDARD
END:VTIMEZONE
END:VCALENDAR