BEGIN:VCALENDAR
VERSION:2.0
PRODID:-//wp-events-plugin.com//7.2.3.1//EN
TZID:America/New_York
X-WR-TIMEZONE:America/New_York
BEGIN:VEVENT
UID:154935@kingstonhappenings.org
DTSTART;TZID=America/New_York:20260214T180000
DTEND;TZID=America/New_York:20260214T190000
DTSTAMP:20260209T163343Z
URL:https://kingstonhappenings.org/events/self-love-sound-healing-nurturin
 g-the-soul/
SUMMARY:Self-Love Sound Healing: Nurturing the Soul
DESCRIPTION:Self-Love Sound Healing: Nurturing the Soul\n\n\nJoin us for "S
 elf-Love Sound Healing\," a transformative journey designed to nurture the
  soul and awaken the spirit. This special event will take place on Valenti
 ne's Day\, inviting you to celebrate the essence of self-love through the 
 healing power of sound.\n\nSpecial discount- if you bring a loved one the 
 2nd tix is just $20 if the1st tix buyer pays $40. Coupon code is "Loved1"\
 n\n
ATTACH;FMTTYPE=image/jpeg:https://kingstonhappenings.org/wp-content/upload
 s/2026/01/StockCake-Love_Connects_Hearts-1638202-standard.jpg
CATEGORIES:@Featured,@Newsletter,Festivals and major community events
LOCATION:Marbletown Multi Arts (MaMA)\, 3588 Main St\, Stone Ridge\, New Yo
 rk\, United States
GEO:41.851651;-74.140833
X-APPLE-STRUCTURED-LOCATION;VALUE=URI;X-ADDRESS=3588 Main St\, Stone Ridge\
 , New York\, United States;X-APPLE-RADIUS=100;X-TITLE=Marbletown Multi Art
 s (MaMA):geo:41.851651,-74.140833
END:VEVENT
BEGIN:VTIMEZONE
TZID:America/New_York
X-LIC-LOCATION:America/New_York
BEGIN:STANDARD
DTSTART:20251102T010000
TZOFFSETFROM:-0400
TZOFFSETTO:-0500
TZNAME:EST
END:STANDARD
END:VTIMEZONE
END:VCALENDAR