BEGIN:VCALENDAR
VERSION:2.0
PRODID:-//wp-events-plugin.com//7.2.3.1//EN
TZID:America/New_York
X-WR-TIMEZONE:America/New_York
BEGIN:VEVENT
UID:156434@kingstonhappenings.org
DTSTART;TZID=America/New_York:20260524T200000
DTEND;TZID=America/New_York:20260524T220000
DTSTAMP:20260423T180124Z
URL:https://kingstonhappenings.org/events/sekanjabin/
SUMMARY:Sekanjabin
DESCRIPTION:Don't miss this opportunity to catch 11+ piece international en
 semble Sekanjabin with singer Gulin Ciloglu on tour from Instanbul.\n\
 nSekanjabin infuses traditional Turkish music with various rhythms and 
 styles from around the world\, and re-imagines it with not-so-traditional 
 instrumentation. From salsa and flamenco to reggae to calypso\, the
  group breathes new life into centuries old folk music. Over it's almost t
 wo decades evolution\, the group has boasted members from the US\, Turkey\
 , and Peru. The combination has left the band with an eclectic and authent
 ic mix of world influences. Front woman Gulin Ciloglu spends most of her t
 ime in Istanbul\, but whenever she returns to the States\, Sekanjabin asse
 mbles. With two violins\, accordion\, reeds\, an oud\, bazouki and all man
 ner of world percussion amped up to club-worthy energy levels by a rhythm 
 section of electric guitar\, bass and full drum kit\, Sekanjabin brings it
 . The result is a unique\, high-energy live show that spills over from the
  stage to the dance floor – a wild and unusual flavor\, instantly refres
 hing and inspirational!\n\nAs its members are always eager to clarify\, Se
 kanjabin does not play traditional Turkish folk music. The ethno-folk coll
 ective is adamant on that point\, in part because these musicians are seri
 ous students and lovers of all world music. Their dance and folk fusion dr
 aws from a trove of world-sourced melodies (many learned originally by Gü
 lin as a child in Istanbul\, others adapted from contemporary Turkish pop)
  set to a joyous collision of the various rhythms the players taught each 
 other during countless get-togethers: Turkish\, Gypsy\, Calypso\, Cumbia a
 nd Cascara\, bellydance\, reggae and many more. It is hypnotic\, ecstatic\
 , celebratory\, participatory\, and musically rich. Come to listen or danc
 e your *** off!\n\nAdvance tickets (online): $10 / $15 / $25 (plus fees)\n
 Day-of / Door price: $15\, subject to availability.\n\nGET TICKETS HERE
ATTACH;FMTTYPE=image/jpeg:https://kingstonhappenings.org/wp-content/upload
 s/2026/04/Sekanjabin-2-Vintage.jpg
CATEGORIES:@Featured,Music
LOCATION:Tempo Arts\, 29 Wurts St. \, KINGSTON\, NY\, 12401\, United States
GEO:41.918241;-73.986437
X-APPLE-STRUCTURED-LOCATION;VALUE=URI;X-ADDRESS=29 Wurts St. \, KINGSTON\, 
 NY\, 12401\, United States;X-APPLE-RADIUS=100;X-TITLE=Tempo Arts:geo:41.91
 8241,-73.986437
END:VEVENT
BEGIN:VTIMEZONE
TZID:America/New_York
X-LIC-LOCATION:America/New_York
BEGIN:DAYLIGHT
DTSTART:20260308T030000
TZOFFSETFROM:-0500
TZOFFSETTO:-0400
TZNAME:EDT
END:DAYLIGHT
END:VTIMEZONE
END:VCALENDAR