BEGIN:VCALENDAR
VERSION:2.0
PRODID:-//wp-events-plugin.com//7.2.3.1//EN
TZID:America/New_York
X-WR-TIMEZONE:America/New_York
BEGIN:VEVENT
UID:155825@kingstonhappenings.org
DTSTART;TZID=America/New_York:20260315T150000
DTEND;TZID=America/New_York:20260315T170000
DTSTAMP:20260309T201223Z
URL:https://kingstonhappenings.org/events/seeing-otherwise-black-womanhood
 -and-the-matrilineal-archive/
SUMMARY:Seeing Otherwise: Black Womanhood and the Matrilineal Archive
DESCRIPTION:On March 15th\, join us for a CPW Conversations panel that trea
 ts history as a living\, relational\, and deeply human space. On the panel
  are: Qiana Mestrich\, Winner of CPW’s 2025 Saltzman Prize for Emerging 
 Photographer\; Channon Anita Simmons\, sister and collaborator of artist N
 ona Faustine (1969-2025)\; Lesly Deschler Canossi\, photography educator a
 nd cultural producer\; and Zoraida Lopez-Diago\, independent curator and i
 ntersectional environmentalist.\nCentered on ideas and questions that info
 rm two current CPW exhibitions\, Seeing Otherwise brings together Faustine
 ’s What My Mother Gave Me–the first-ever retrospective of her decades
 -long practice–and Mestrich’s Do Not Fold\, Spindle\, or Mutilate\, f
 eaturing her ongoing collage series The Reinforcements. Through photogra
 phs\, (auto)biography\, and archival practices\, both artists confront his
 torical absence and distortion\, asking: How do images shape what we know 
 about history and what we remember? How can we re-frame our histories with
  fuller perspectives?
ATTACH;FMTTYPE=image/jpeg:https://kingstonhappenings.org/wp-content/upload
 s/2026/03/Conversation-Single-Event-Title-32pt-on-Two-or-Three-Lines.png
CATEGORIES:@Featured,@Newsletter,Community,Educational classes and
 lectures
LOCATION:Center for Photography at Woodstock(CPW)\, 25 Dederick St. \, King
 ston\, NY\, 12401\, United States
GEO:41.92761;-73.998774
X-APPLE-STRUCTURED-LOCATION;VALUE=URI;X-ADDRESS=25 Dederick St. \, Kingston
 \, NY\, 12401\, United States;X-APPLE-RADIUS=100;X-TITLE=Center for Photog
 raphy at Woodstock(CPW):geo:41.92761,-73.998774
END:VEVENT
BEGIN:VTIMEZONE
TZID:America/New_York
X-LIC-LOCATION:America/New_York
BEGIN:DAYLIGHT
DTSTART:20260308T030000
TZOFFSETFROM:-0500
TZOFFSETTO:-0400
TZNAME:EDT
END:DAYLIGHT
END:VTIMEZONE
END:VCALENDAR