BEGIN:VCALENDAR
VERSION:2.0
PRODID:-//wp-events-plugin.com//7.2.3.1//EN
TZID:America/New_York
X-WR-TIMEZONE:America/New_York
BEGIN:VEVENT
UID:149883@kingstonhappenings.org
DTSTART;TZID=America/New_York:20251213T100000
DTEND;TZID=America/New_York:20251213T170000
DTSTAMP:20250519T130056Z
URL:https://kingstonhappenings.org/events/seed-song-saturday-socials-2-202
 5-12-13/
SUMMARY:Seed Song Saturday Socials
DESCRIPTION:Every Saturday 10AM – 5PM\nSeed Song Saturday Socials\nMornin
 g Coffee &amp\; Tea Hour (10 AM – 12 PM)\nActivities &amp\; Fun (12 PM 
 – 3 PM)\nCommunity Choice Hour (3 PM – 5 PM)\nWhether you’re here fo
 r an hour or the whole day\, Seed Song Saturdays are about enjoying the si
 mple things and connecting with our land.\nWe can’t wait to hang out wit
 h you!\nEntry Is free- Donations welcome!\nPay only for food\, drinks &amp
 \; ticketed events.\nCheck our website to view events and pricing.
CATEGORIES:@Featured,Community,For kids,Sports and recreation
LOCATION:Seed Song Farm\, 160 Esopus Ave.\, Kingston\, NY\, United States
GEO:41.9555408;-74.00744159999999
X-APPLE-STRUCTURED-LOCATION;VALUE=URI;X-ADDRESS=160 Esopus Ave.\, Kingston\
 , NY\, United States;X-APPLE-RADIUS=100;X-TITLE=Seed Song Farm:geo:41.9555
 408,-74.00744159999999
END:VEVENT
BEGIN:VTIMEZONE
TZID:America/New_York
X-LIC-LOCATION:America/New_York
BEGIN:STANDARD
DTSTART:20251102T010000
TZOFFSETFROM:-0400
TZOFFSETTO:-0500
TZNAME:EST
END:STANDARD
END:VTIMEZONE
END:VCALENDAR