BEGIN:VCALENDAR
VERSION:2.0
PRODID:-//wp-events-plugin.com//7.2.3.1//EN
TZID:America/New_York
X-WR-TIMEZONE:America/New_York
BEGIN:VEVENT
UID:152455@kingstonhappenings.org
DTSTART;TZID=America/New_York:20251102T140000
DTEND;TZID=America/New_York:20251102T180000
DTSTAMP:20251103T124626Z
URL:https://kingstonhappenings.org/events/second-annual-hops-for-happiness
 /
SUMMARY:Second Annual Hops for Happiness
DESCRIPTION:Join us for our Second Annual Hops for Happiness event! Enjoy a
  fun-filled afternoon featuring live music by Joey Eppard\, exciting raffl
 es and silent auction\, and great food and drinks\, and all supporting loc
 al children on the autism spectrum.\nOnce again\, Hops for Happiness promi
 ses to be an unforgettable experience where you can connect with others\, 
 enjoy the festive atmosphere\, and make a meaningful impact. By attending\
 , you'll be contributing to the vital programs and services provided by Ce
 nter for Spectrum Services\, helping to enhance the lives of children with
  autism.\nWhether you're there for the camaraderie\, the entertainment\, o
 r the chance to win fantastic prizes\, your participation makes a differen
 ce. Don't miss this chance to support a wonderful cause while having a bla
 st at Keegan Ales!\nSo\, Save the Date! We look forward to seeing you and 
 sharing this special day with you!
ATTACH;FMTTYPE=image/jpeg:https://kingstonhappenings.org/wp-content/upload
 s/2025/10/548222846_1377034644429376_5211896604568627664_n.jpg
CATEGORIES:@Featured,@Newsletter,Music,Nightlife and entertainment
LOCATION:Keegan Ales\, 20 Saint James Street\, Kingston\, NY\, 12401\, Unit
 ed States
GEO:41.931504;-74.01187
X-APPLE-STRUCTURED-LOCATION;VALUE=URI;X-ADDRESS=20 Saint James Street\, Kin
 gston\, NY\, 12401\, United States;X-APPLE-RADIUS=100;X-TITLE=Keegan Ales:
 geo:41.931504,-74.01187
END:VEVENT
BEGIN:VTIMEZONE
TZID:America/New_York
X-LIC-LOCATION:America/New_York
BEGIN:STANDARD
DTSTART:20251102T010000
TZOFFSETFROM:-0400
TZOFFSETTO:-0500
TZNAME:EST
END:STANDARD
END:VTIMEZONE
END:VCALENDAR