BEGIN:VCALENDAR
VERSION:2.0
PRODID:-//wp-events-plugin.com//7.2.3.1//EN
TZID:America/New_York
X-WR-TIMEZONE:America/New_York
BEGIN:VEVENT
UID:156035@kingstonhappenings.org
DTSTART;TZID=America/New_York:20260416T190000
DTEND;TZID=America/New_York:20260416T203000
DTSTAMP:20260413T134154Z
URL:https://kingstonhappenings.org/events/seaspiracy/
SUMMARY:Seaspiracy
DESCRIPTION:Documentary Seaspiracy follows filmmaker and environmental acti
 vist Ali Tabrizi as he investigates the hidden impact of the global fishin
 g industry on the world’s oceans. What begins as a personal mission to d
 ocument marine pollution quickly evolves into a deeper exploration of larg
 e-scale commercial fishing\, revealing how overfishing\, bycatch\, and ind
 ustrial practices threaten marine ecosystems.\n\nTraveling across multiple
  countries\, Tabrizi interviews scientists\, activists\, and industry repr
 esentatives while uncovering troubling connections between seafood supply 
 chains\, environmental damage\, and global regulatory systems. The film ra
 ises challenging questions about sustainability labels\, ocean conservatio
 n efforts\, and the role consumers play in protecting marine life.
ATTACH;FMTTYPE=image/jpeg:https://kingstonhappenings.org/wp-content/upload
 s/2026/03/Sseaspiracy-sm.jpg
CATEGORIES:@Featured,@Newsletter,Movies
LOCATION:Rosendale Theater\, 408 Main St\, Rosendale\, New York\, 12472\, U
 nited States
GEO:41.8441401;-74.0821133
X-APPLE-STRUCTURED-LOCATION;VALUE=URI;X-ADDRESS=408 Main St\, Rosendale\, N
 ew York\, 12472\, United States;X-APPLE-RADIUS=100;X-TITLE=Rosendale Theat
 er:geo:41.8441401,-74.0821133
END:VEVENT
BEGIN:VTIMEZONE
TZID:America/New_York
X-LIC-LOCATION:America/New_York
BEGIN:DAYLIGHT
DTSTART:20260308T030000
TZOFFSETFROM:-0500
TZOFFSETTO:-0400
TZNAME:EDT
END:DAYLIGHT
END:VTIMEZONE
END:VCALENDAR