BEGIN:VCALENDAR
VERSION:2.0
PRODID:-//wp-events-plugin.com//7.2.3.1//EN
TZID:America/New_York
X-WR-TIMEZONE:America/New_York
BEGIN:VEVENT
UID:153064@kingstonhappenings.org
DTSTART;TZID=America/New_York:20251213T190000
DTEND;TZID=America/New_York:20251213T190000
DTSTAMP:20251208T204604Z
URL:https://kingstonhappenings.org/events/seasons-shimmies-a-holiday-burle
 sque-cabaret-show/
SUMMARY:Seasons Shimmies: A Holiday Burlesque & Cabaret Show
DESCRIPTION:Get ready to sparkle and shimmy into the holiday spirit! Seaso
 ns Shimmies brings you a dazzling night of Burlesque\, Pole Arts\, Cabaret
  Singing\, and more — a sizzling showcase of artistry\, glamour\, and te
 ase to warm up your winter nights!  It is a little classy\, campy and al
 l cheer! \nHosted by your Mistress of the Mic &amp\; Performer\, Tryst La
  Noir \, the evening features a sensational cast of performers ready to d
 elight and dazzle with festive flair!\nFeaturing!\n Lady Fingers\n Melin
 a Mauve\n Leggy Meg\n Harley Foxx\n Bambi\n Ginger Maraschino\n Raffl
 es\, gifts\, and surprises — and don’t forget your dollars! Sponsored
  by The Red Foxxx Lingerie &amp\; Wellness Shop — celebrating confidence
 \, beauty\, and playfulness all year long!\nGather your friends\, dress to
  impress\, and join us for a night of sparkle\, sass\, and seasonal seduct
 ion! \nGuests must be 18+ to enter the Cabaret! \nSee you there!\nhttps:
 //l.facebook.com/l.php?u=https%3A%2F%2Fwww.eventbrite.com%2Fe%2Fstrangehou
 se-presents-seasons-shimmies-a-holiday-burlesque-cabaret-show-tickets-1969
 996801464%3Faff%3Doddtdtcreator%26fbclid%3DIwZXh0bgNhZW0CMTAAYnJpZBExRE85S
 DB2VzdnSmtsaWhKWHNydGMGYXBwX2lkEDIyMjAzOTE3ODgyMDA4OTIAAR4NeeWw-374Std1_Up
 fPmH_X3pYDLsWIKx5KWxGG6AQ_CL-DNQ1OPeBMfkbkQ_aem_i3PQSVVO_5AZlYpIz_y5qw&amp
 \;h=AT1ir5j4cGwYAtF0aA7cs981GEc4nAo-3Gu_RlIoJ488QKxYqAWkOhbLMxYsfGjH7Ofk9B
 NxLQ80Bl8rfd7DBF6SWJSwJQZoZ5dVpv_iGWsq_im2xmagaYNQg1obgeDSf2Jp86HJErDzaQPx
 4tc\n
ATTACH;FMTTYPE=image/jpeg:https://kingstonhappenings.org/wp-content/upload
 s/2025/12/581223234_1485923409999883_4062021550600384203_n.jpg
CATEGORIES:@Featured,@Newsletter,Music,Nightlife and entertainment
LOCATION:Colony Woodstock NY\, 22 Rock City Rd\, Woodstock\, New York\, Uni
 ted States
GEO:42.0424924;-74.11799489999999
X-APPLE-STRUCTURED-LOCATION;VALUE=URI;X-ADDRESS=22 Rock City Rd\, Woodstock
 \, New York\, United States;X-APPLE-RADIUS=100;X-TITLE=Colony Woodstock NY
 :geo:42.0424924,-74.11799489999999
END:VEVENT
BEGIN:VTIMEZONE
TZID:America/New_York
X-LIC-LOCATION:America/New_York
BEGIN:STANDARD
DTSTART:20251102T010000
TZOFFSETFROM:-0400
TZOFFSETTO:-0500
TZNAME:EST
END:STANDARD
END:VTIMEZONE
END:VCALENDAR