BEGIN:VCALENDAR
VERSION:2.0
PRODID:-//wp-events-plugin.com//7.2.3.1//EN
TZID:America/New_York
X-WR-TIMEZONE:America/New_York
BEGIN:VEVENT
UID:150465@kingstonhappenings.org
DTSTART;TZID=America/New_York:20251018T143000
DTEND;TZID=America/New_York:20251018T160000
DTSTAMP:20251013T172045Z
URL:https://kingstonhappenings.org/events/sculpture-lab-build-in-3d-2025-1
 0-18/
SUMMARY:Sculpture Lab: Build in 3d
DESCRIPTION:4 Saturdays\nSeptember 27\, October \,4\,11\,18\n2:30-4:00 pm\n
 \nGet ready to cut\, twist\, shape\, and sculpt! In this fun\, hands-on wo
 rkshop\, kids in grades 3–5 will use materials like cardboard\, papier-m
 âché\, and wire to build their own 3D masterpiece. Whether they dream up
  a wild creature\, a cool robot\, or an abstract work of art\, students wi
 ll be guided to explore their creativity and express their unique ideas. T
 his workshop is perfect for curious young artists who love to build\, imag
 ine\, and think outside the box!\n\n--------------------------------------
 --\n\nPlease register at least a week in advance to guarantee your spot.\n
 \n-----------------------------------------\n\nWe believe in access to art
  education for all. It takes the whole community to generate the equity ou
 r pay-what-you-can tuition generates. Behind the scenes\, we work to bridg
 e the financial gap between what our students can pay and what we need to 
 sustain our programs. Please consider carefully before you use our discoun
 t codes.\n\nScholarship Codes:\nFor 25% discount use code "25OFF"\nFor 50%
  discount use code "50OFF"\nFor 75% discount use code "75OFF"\n\nThis econ
 omic justice map from The Sliding Scale: A Tool of Economic Justice by Ale
 xis J. Cunningfolk is useful to assess where you may fall on the financial
  spectrum of pay what you can.\n\nTo request 100% off tuition\, please con
 tact chris@mkad.art
CATEGORIES:@Featured,@Newsletter,Art,Educational classes and lectures
LOCATION:Midtown Kingston Arts District and the D.R.A.W.\, 20 Cedar Street\
 , Kingston\, NY\, 12401\, United States
GEO:41.928545;-74.004206
X-APPLE-STRUCTURED-LOCATION;VALUE=URI;X-ADDRESS=20 Cedar Street\, Kingston\
 , NY\, 12401\, United States;X-APPLE-RADIUS=100;X-TITLE=Midtown Kingston A
 rts District and the D.R.A.W.:geo:41.928545,-74.004206
END:VEVENT
BEGIN:VTIMEZONE
TZID:America/New_York
X-LIC-LOCATION:America/New_York
BEGIN:DAYLIGHT
DTSTART:20250309T030000
TZOFFSETFROM:-0500
TZOFFSETTO:-0400
TZNAME:EDT
END:DAYLIGHT
END:VTIMEZONE
END:VCALENDAR