BEGIN:VCALENDAR
VERSION:2.0
PRODID:-//wp-events-plugin.com//7.2.3.1//EN
TZID:America/New_York
X-WR-TIMEZONE:America/New_York
BEGIN:VEVENT
UID:153236@kingstonhappenings.org
DTSTART;TZID=America/New_York:20251227T193000
DTEND;TZID=America/New_York:20251227T193000
DTSTAMP:20251222T171235Z
URL:https://kingstonhappenings.org/events/scott-sharrard-eldorado-slim/
SUMMARY:Scott Sharrard $ Eldorado Slim
DESCRIPTION:Ft. Scott Sharrard (Guitar\, Vox)\, Kyle Kohler (B3 Organ)\, Cr
 aig Dreyer (Sax\, Keys\, Vox)\, Tony Leone (Drums\, Vox)\n“Eldorado Slim
 ” is a a six-piece ensemble exploring early 1970s soul-jazz\, Roots Rock
 \, Acid Funk and Space Spirituals. Featuring members of Little Feat\, The 
 Gregg Allman Band\, Phil Lesh and Friends\, and Dispatch.
ATTACH;FMTTYPE=image/jpeg:https://kingstonhappenings.org/wp-content/upload
 s/2025/12/577613508_1245651270930476_7298861944456429382_n.jpg
CATEGORIES:@Featured,@Newsletter,Music,Nightlife and entertainment
LOCATION:The Falcon\, 1348 Route 9W\, Marlboro\, NY\, United States
GEO:41.6061213;-73.97065420000001
X-APPLE-STRUCTURED-LOCATION;VALUE=URI;X-ADDRESS=1348 Route 9W\, Marlboro\, 
 NY\, United States;X-APPLE-RADIUS=100;X-TITLE=The Falcon:geo:41.6061213,-7
 3.97065420000001
END:VEVENT
BEGIN:VTIMEZONE
TZID:America/New_York
X-LIC-LOCATION:America/New_York
BEGIN:STANDARD
DTSTART:20251102T010000
TZOFFSETFROM:-0400
TZOFFSETTO:-0500
TZNAME:EST
END:STANDARD
END:VTIMEZONE
END:VCALENDAR