BEGIN:VCALENDAR
VERSION:2.0
PRODID:-//wp-events-plugin.com//7.2.3.1//EN
TZID:America/New_York
X-WR-TIMEZONE:America/New_York
BEGIN:VEVENT
UID:152218@kingstonhappenings.org
DTSTART;TZID=America/New_York:20251009T073000
DTEND;TZID=America/New_York:20251009T193000
DTSTAMP:20251007T145301Z
URL:https://kingstonhappenings.org/events/scary-burton-live-at-the-falcon/
SUMMARY:Scary Burton live at The Falcon!
DESCRIPTION:\n 	Scary Burton is a vibraphone quartet featuring Dave Dreiwit
 z (of Ween and JRAD)\, Jonathan Goldberger (of Red Barat and John Zorn’s
  Bagatelles)\, Jeff Davis (NYC swing drumming legend) and newish Kingston 
 resident Kevin Kendrick on vibraphone. The band specializes in ‘70s jazz
  by artists such as Keith Jarrett\, Carla Bley\, Pat Metheny\, and Gary Bu
 rton.\n
ATTACH;FMTTYPE=image/jpeg:https://kingstonhappenings.org/wp-content/upload
 s/2025/10/The-Falcon-107-smaller.jpeg
CATEGORIES:@Featured,@Newsletter,Music,Nightlife and entertainment
LOCATION:The Falcon\, 1348 Route 9W\, Marlboro\, NY\, United States
GEO:41.6061213;-73.97065420000001
X-APPLE-STRUCTURED-LOCATION;VALUE=URI;X-ADDRESS=1348 Route 9W\, Marlboro\, 
 NY\, United States;X-APPLE-RADIUS=100;X-TITLE=The Falcon:geo:41.6061213,-7
 3.97065420000001
END:VEVENT
BEGIN:VTIMEZONE
TZID:America/New_York
X-LIC-LOCATION:America/New_York
BEGIN:DAYLIGHT
DTSTART:20250309T030000
TZOFFSETFROM:-0500
TZOFFSETTO:-0400
TZNAME:EDT
END:DAYLIGHT
END:VTIMEZONE
END:VCALENDAR