BEGIN:VCALENDAR
VERSION:2.0
PRODID:-//wp-events-plugin.com//7.2.3.1//EN
TZID:America/New_York
X-WR-TIMEZONE:America/New_York
BEGIN:VEVENT
UID:151622@kingstonhappenings.org
DTSTART;TZID=America/New_York:20250916T180000
DTEND;TZID=America/New_York:20250916T190000
DTSTAMP:20250917T013201Z
URL:https://kingstonhappenings.org/events/savvy-social-security-planning-s
 eminar/
SUMMARY:Savvy Social Security Planning Seminar
DESCRIPTION:The public is invited to attend a complimentary educational wor
 kshop titled “Savvy Social Security Planning.” on Tuesday\, September 
 16\, at 6 pm at Ulster Savings Bank\, located at 180 Schwenk Drive\, Kings
 ton.\n\nThis informative seminar covers the basics of Social Security and 
 reveals strategies for maximizing your benefits. To help baby boomers bett
 er understand the Social Security system\, this 60 to 90-minute workshop w
 ill cover:\n\n 	Five factors to consider when deciding when to apply for b
 enefits\n 	Why you should always check your earnings record for accuracy\n
  	How to coordinate benefits with your spouse\n 	How to minimize taxes on 
 Social Security benefits\n 	How to coordinate Social Security with your ot
 her sources of retirement income\n\nTo register\, email kimberly.horn@cete
 rais.com or call 845-338-6322\, ext. 3252.\n\nUlster Financial Services is
  a marketing name of Cetera Investment Services. Securities and insurance 
 offered through Cetera Investments Services\, LLC\, member FINRA/SIPC. Adv
 isory services offered through Cetera Investment Advisers\, LLC. Cetera fi
 rms are under separate ownership from any other named entity.\n\nInvestmen
 ts are: | Not FDIC/NCUSIF insured | May lose value | Not financial institu
 tion guaranteed | Not a deposit | Not insured by any federal government ag
 ency.
ATTACH;FMTTYPE=image/jpeg:https://kingstonhappenings.org/wp-content/upload
 s/2025/08/USB-SS-Planning-Seminar-Sept-Calendar-Listing.jpg
CATEGORIES:@Featured,@Newsletter,Community,For seniors
LOCATION:Ulster Savings Bank\, \, 
X-APPLE-STRUCTURED-LOCATION;VALUE=URI;X-ADDRESS=\, ;X-APPLE-RADIUS=100;X-TI
 TLE=Ulster Savings Bank:geo:0,0
END:VEVENT
BEGIN:VTIMEZONE
TZID:America/New_York
X-LIC-LOCATION:America/New_York
BEGIN:DAYLIGHT
DTSTART:20250309T030000
TZOFFSETFROM:-0500
TZOFFSETTO:-0400
TZNAME:EDT
END:DAYLIGHT
END:VTIMEZONE
END:VCALENDAR