BEGIN:VCALENDAR
VERSION:2.0
PRODID:-//wp-events-plugin.com//7.2.3.1//EN
TZID:America/New_York
X-WR-TIMEZONE:America/New_York
BEGIN:VEVENT
UID:152797@kingstonhappenings.org
DTSTART;TZID=America/New_York:20251129T130000
DTEND;TZID=America/New_York:20251129T130000
DTSTAMP:20251124T133433Z
URL:https://kingstonhappenings.org/events/saturday-movie-matinee-wizards/
SUMMARY:Saturday Movie Matinee: Wizards
DESCRIPTION:Join us for a screening of the 1977 animate cult classic Wizard
 s from the creative mind of the iconic animator Ralph Bakshi? Bakshi is di
 rect in his imagery and his messaging: the drumbeat of war and the rush of
  new technology is killing us... Wizards is far more than a simple animate
 d curiosity\, but a surprisingly dark\, dangerous\, and compelling piece o
 f fantasy.\nAfter the death of his mother\, the evil mutant wizard Blackwo
 lf discovers some long-lost military technologies. Full of ego and ambitio
 n\, Blackwolf claims his mother's throne\, assembles an army and sets out 
 to brainwash and conquer Earth. Meanwhile\, Blackwolf's gentle twin brothe
 r\, the bearded and sage Avatar\, calls upon his own magical abilities to 
 foil Blackwolf's plans for world domination -- even if it means destroying
  his own flesh and blood.\nNo registration needed\, just drop by the Commu
 nity Room. Popcorn and laughs on us! \nRated PG (1hr 20min)
ATTACH;FMTTYPE=image/jpeg:https://kingstonhappenings.org/wp-content/upload
 s/2025/11/559067111_1223006223203704_2588595032420616202_n.jpg
CATEGORIES:@Featured,@Newsletter,Community,Music
LOCATION:Kingston Library\, 61 Crown St\, Kingston\, NY\, 12401\, United St
 ates
GEO:41.934381;-74.021982
X-APPLE-STRUCTURED-LOCATION;VALUE=URI;X-ADDRESS=61 Crown St\, Kingston\, NY
 \, 12401\, United States;X-APPLE-RADIUS=100;X-TITLE=Kingston Library:geo:4
 1.934381,-74.021982
END:VEVENT
BEGIN:VTIMEZONE
TZID:America/New_York
X-LIC-LOCATION:America/New_York
BEGIN:STANDARD
DTSTART:20251102T010000
TZOFFSETFROM:-0400
TZOFFSETTO:-0500
TZNAME:EST
END:STANDARD
END:VTIMEZONE
END:VCALENDAR