BEGIN:VCALENDAR
VERSION:2.0
PRODID:-//wp-events-plugin.com//7.2.3.1//EN
TZID:America/New_York
X-WR-TIMEZONE:America/New_York
BEGIN:VEVENT
UID:153049@kingstonhappenings.org
DTSTART;TZID=America/New_York:20251213T100000
DTEND;TZID=America/New_York:20251213T100000
DTSTAMP:20251208T204603Z
URL:https://kingstonhappenings.org/events/santa-comes-to-town/
SUMMARY:Santa Comes to Town
DESCRIPTION:Join us next weekend as we escorting Santa across Old Hurley! R
 ain date is 12/20
ATTACH;FMTTYPE=image/jpeg:https://kingstonhappenings.org/wp-content/upload
 s/2025/12/595516100_1304699425018729_6610802660724066860_n.jpg
CATEGORIES:@Featured,@Newsletter,Festivals and major community events,For
 kids
LOCATION:West Hurley Fire Dept.\, 24 Wall St.\, West Hurley\, NY\, United S
 tates
GEO:41.998279;-74.100092
X-APPLE-STRUCTURED-LOCATION;VALUE=URI;X-ADDRESS=24 Wall St.\, West Hurley\,
  NY\, United States;X-APPLE-RADIUS=100;X-TITLE=West Hurley Fire Dept.:geo:
 41.998279,-74.100092
END:VEVENT
BEGIN:VTIMEZONE
TZID:America/New_York
X-LIC-LOCATION:America/New_York
BEGIN:STANDARD
DTSTART:20251102T010000
TZOFFSETFROM:-0400
TZOFFSETTO:-0500
TZNAME:EST
END:STANDARD
END:VTIMEZONE
END:VCALENDAR