BEGIN:VCALENDAR
VERSION:2.0
PRODID:-//wp-events-plugin.com//7.2.3.1//EN
TZID:America/New_York
X-WR-TIMEZONE:America/New_York
BEGIN:VEVENT
UID:156312@kingstonhappenings.org
DTSTART;TZID=America/New_York:20260502T170000
DTEND;TZID=America/New_York:20260502T210000
DTSTAMP:20260416T141038Z
URL:https://kingstonhappenings.org/events/run-of-the-mill/
SUMMARY:RUN of the MILL
DESCRIPTION:\n\n\n\n\nCalling all Lace Lovers\, History Buffs\, Kingston Fa
 ns\, and Creatives Join us as we celebrate Kingston’s Lace Mill this May
  with RUN of the MILL\n\nOpening May 2nd from 5-9 featuring tours of the b
 oiler\, lace-making demonstrations\, and performance~ Edwardian and Steamp
 unk costumes welcome!\nClosing May 28\, featuring a presentation by Alisza
  Phillips at 7pm\nHours: Gallery hours Saturday and Sunday 1-4 and by Spec
 ial Arrangement\n\nAddress: 165 Cornell St. Kingston\, NY 12401\n\nRUN of 
 the MILL celebrates the Lace Mill from its promising beginning as the US L
 ace Curtain Mill in 1903\, through its acquisition by the ill-fated Scrant
 on\, its IBM years\, to its decades of derelict abandonment\, up to its re
 naissance as RUPCO's award winning place-making design of 2015.We will exp
 lore the dedicated and ingenious technology of the Nottingham looms\, the 
 machines imported along with their skilled operators from England. But jus
 t as lace filters light and casts patterns of shadow\, the airy fantasies 
 of Gilded Age luxuries for the masses were spun out of share- cropped cott
 on often by the hands of children\; and forged by the hell of anthracite c
 oal mining. Run of the Mill also showcases lace as our human heritage\, an
 d journeys from nature's inspiration for lace\, to the many traditional ex
 pressions of handmade lace\, to machine made lace. We will culminate the e
 xhibit by honoring contemporary lacemakers and the reemergence of an unsun
 g handicraft as premiere textile art.\n\nOn Exhibition:\nArtifacts and Pho
 tographs of Early Mechanical Lace from original Nottingham looms and Tradi
 tional Handmade Laces and Textiles of Far-Flung Cultures\nContributions fr
 om Stephen Blauweiss\, filmmaker and historian\, and coauthor of The Story
  of Historic Kingston\nMatthew Christopher\, author and creator of Abandon
 ed America\nContemporary lace artists of the Hudson Valley Lace Guild and 
 the Brooklyn Lace Guild Lace Lace and Industry inspired artworks by Member
 s of the Lace Mill Arts Community\n\n\n\n\n\n\n\n\n\n\nGuest Artists: Emil
 y A Baker\, Mimi Graminski\, Isabel Livingston\nAnd Bonus! A model train d
 isplay by Hurley Country Store and friends!\n\nExhibit made possible by:\n
 Historical research conducted by Alisza Phillips with the generous assista
 nce of curators\, historians\, and archivists from Nottingham Museums\, No
 ttingham Local Studies\, Friends of Historic Kingston\, Eileen Bernard Mus
 eum\, Historic Huguenot Street\, Ulster County Archives\, The National Mus
 eum of Industrial History\, Rhode Island Historic\, Society\, Waverly Comm
 unity House\, Free Library of Philadelphia\, Pawtucket History Resource Co
 llection at the Pawtucket Public Library\, Antonio Ratti Textile Center an
 d Watson Library at the Metropolitan Museum of Art\, Library of Congress\,
  Old Slater Mill\, D &amp\; H Canal Museum\n\nWith Special Thanks to James
  Martin\, Head of the Lace Mill Gallery Committee\n\n\n\n\n
ATTACH;FMTTYPE=image/jpeg:https://kingstonhappenings.org/wp-content/upload
 s/2026/04/N2TLMGalleryFlyer2026-1-scaled.jpg
CATEGORIES:@Featured,Art,Educational classes and
 lectures,History,Movies,Theater
LOCATION:The Lace Mill\, 165 Cornell St.\, Kingston\, New York\, 12401\, Un
 ited States
GEO:41.934636;-73.99857700000001
X-APPLE-STRUCTURED-LOCATION;VALUE=URI;X-ADDRESS=165 Cornell St.\, Kingston\
 , New York\, 12401\, United States;X-APPLE-RADIUS=100;X-TITLE=The Lace Mil
 l:geo:41.934636,-73.99857700000001
END:VEVENT
BEGIN:VTIMEZONE
TZID:America/New_York
X-LIC-LOCATION:America/New_York
BEGIN:DAYLIGHT
DTSTART:20260308T030000
TZOFFSETFROM:-0500
TZOFFSETTO:-0400
TZNAME:EDT
END:DAYLIGHT
END:VTIMEZONE
END:VCALENDAR