BEGIN:VCALENDAR
VERSION:2.0
PRODID:-//wp-events-plugin.com//7.2.3.1//EN
TZID:America/New_York
X-WR-TIMEZONE:America/New_York
BEGIN:VEVENT
UID:153344@kingstonhappenings.org
DTSTART;TZID=America/New_York:20260201T140000
DTEND;TZID=America/New_York:20260201T160000
DTSTAMP:20260127T130155Z
URL:https://kingstonhappenings.org/events/rudolph-valentino-in-the-sheik/
SUMMARY:Rudolph Valentino in "The Sheik"
DESCRIPTION:Rudolph Valentino plays Paris educated Sheik Ahmed who desperat
 ely desires feisty British socialite Diana. The only solution (for him) is
  to abduct her and carry her off to his luxurious desert tent-palace. The 
 free-spirited Diana recoils from his passionate embraces and yearns to be 
 released. Only after being kidnapped by desert bandits (which was her own 
 fault) does Diana realize how much she has grown to love Ahmed. Will he co
 me to her rescue? Will he get there in time?\n\nSilent Film with Live Acco
 mpaniment by Marta Waterman\n\n&nbsp\;\n\n&nbsp\;\n\n&nbsp\;
ATTACH;FMTTYPE=image/jpeg:https://kingstonhappenings.org/wp-content/upload
 s/2026/01/17307909433628730517488159418699.jpg
CATEGORIES:@Featured,@Newsletter,Movies
LOCATION:Rosendale Theater\, 408 Main St\, Rosendale\, New York\, 12472\, U
 nited States
GEO:41.8441401;-74.0821133
X-APPLE-STRUCTURED-LOCATION;VALUE=URI;X-ADDRESS=408 Main St\, Rosendale\, N
 ew York\, 12472\, United States;X-APPLE-RADIUS=100;X-TITLE=Rosendale Theat
 er:geo:41.8441401,-74.0821133
END:VEVENT
BEGIN:VTIMEZONE
TZID:America/New_York
X-LIC-LOCATION:America/New_York
BEGIN:STANDARD
DTSTART:20251102T010000
TZOFFSETFROM:-0400
TZOFFSETTO:-0500
TZNAME:EST
END:STANDARD
END:VTIMEZONE
END:VCALENDAR