BEGIN:VCALENDAR
VERSION:2.0
PRODID:-//wp-events-plugin.com//7.2.3.1//EN
TZID:America/New_York
X-WR-TIMEZONE:America/New_York
BEGIN:VEVENT
UID:152049@kingstonhappenings.org
DTSTART;TZID=America/New_York:20251004T190000
DTEND;TZID=America/New_York:20251004T220000
DTSTAMP:20250929T144756Z
URL:https://kingstonhappenings.org/events/roxiny/
SUMMARY:Roxiny
DESCRIPTION:NYC-based singer/songwriter and women’s rights activist Roxin
 y brings her electrifying voice and powerful storytelling back to Kingston
  after a standout debut at the 2023 O+ Festival.\nHer debut album QOYA 
 – a raw and genre-spanning work created with producers Alex Epton (Bjork
 \, FKA Twigs\, Vampire Weekend)\, Chris Coady (Yeah Yeah Yeahs\, Beach Hou
 se) and Jonathan Kreinik (Run The Jewels\, The Rapture) – earned wide at
 tention\, with songs featured on 50 Cent’s hit series BMF. Earlier this 
 year she released For The Girls – a stripped-down acoustic companion t
 hat highlights her songwriting at its most intimate. Released on Internati
 onal Women’s Day\, the EP features acoustic versions of album tracks “
 9 Months\,” “Castles” and “Ni Santas Ni Putas” and channels Roxi
 ny’s deep commitment to social justice\, with proceeds supporting organi
 zations that fight gender-based violence and defend reproductive freedoms.
 \nExpect a performance at Chromatic Studios where soulful artistry and con
 viction meet in equal measure.\nListen to QOYA and For The Girls HERE.\nC
 atch Roxiny at Noise For Now‘s benefit concert in Brooklyn\, NY on Octo
 ber 19 @ Brooklyn Bowl! Tickets HERE.
ATTACH;FMTTYPE=image/jpeg:https://kingstonhappenings.org/wp-content/upload
 s/2025/09/20251004-roxiny-1000.png
CATEGORIES:@Featured,@Newsletter,Music
LOCATION:Chromatic Studios\, 71 O'Neil St. \, Kingston\, NY\, 12401\, Unite
 d States
GEO:41.932209;-74.003624
X-APPLE-STRUCTURED-LOCATION;VALUE=URI;X-ADDRESS=71 O'Neil St. \, Kingston\,
  NY\, 12401\, United States;X-APPLE-RADIUS=100;X-TITLE=Chromatic Studios:g
 eo:41.932209,-74.003624
END:VEVENT
BEGIN:VTIMEZONE
TZID:America/New_York
X-LIC-LOCATION:America/New_York
BEGIN:DAYLIGHT
DTSTART:20250309T030000
TZOFFSETFROM:-0500
TZOFFSETTO:-0400
TZNAME:EDT
END:DAYLIGHT
END:VTIMEZONE
END:VCALENDAR