BEGIN:VCALENDAR
VERSION:2.0
PRODID:-//wp-events-plugin.com//7.2.3.1//EN
TZID:America/New_York
X-WR-TIMEZONE:America/New_York
BEGIN:VEVENT
UID:151854@kingstonhappenings.org
DTSTART;TZID=America/New_York:20250920T130000
DTEND;TZID=America/New_York:20250920T130000
DTSTAMP:20250915T190105Z
URL:https://kingstonhappenings.org/events/rose-blossom-sekar-mawar-gamelan
 -the-rail-trail-cafe/
SUMMARY:Rose Blossom (Sekar Mawar) Gamelan @ The Rail Trail Cafe
DESCRIPTION:The soothing sounds of Sundanese gamelan will be alive in the f
 orest at Rosendale’s sweet outdoor venue\, the Rail Trail Café. Share a
  pizza or a tasty beverage\, immersed in the sounds of gongs and songs fro
 m West Java\, Indonesia. New musicians will be making their debut with the
  Catskill Mountain Gamelan in our first public performance since 2020\, wh
 en we temporarily paused our musical operation first for the pandemic\, th
 en for the babies\, and finally as we searched for a new home for our inst
 ruments. We are back with some of our favorite melodies\, and are adding i
 n some new repertoire\, including a fun new arrangement of the Turkish son
 g Saskin. If you like a good story\, we will pause for a storytelling mome
 nt\, as we read a Southeast Asian trickster tale of the famous mouse deer 
 Kancil. Listen for how he gets out of a sticky predicament\, set to the mu
 sic of the Rose Blossom (Sekar Mawar) Gamelan
ATTACH;FMTTYPE=image/jpeg:https://kingstonhappenings.org/wp-content/upload
 s/2025/09/536273449_1341332217991948_416323069670729929_n.jpg
CATEGORIES:@Featured,@Newsletter,Music,Nightlife and entertainment
LOCATION:Rail Trail Cafe\, 310 River Rd. Ext. \, Rosendale\, NY\, 12401\, U
 nited States
GEO:41.81887;-74.08056
X-APPLE-STRUCTURED-LOCATION;VALUE=URI;X-ADDRESS=310 River Rd. Ext. \, Rosen
 dale\, NY\, 12401\, United States;X-APPLE-RADIUS=100;X-TITLE=Rail Trail Ca
 fe:geo:41.81887,-74.08056
END:VEVENT
BEGIN:VTIMEZONE
TZID:America/New_York
X-LIC-LOCATION:America/New_York
BEGIN:DAYLIGHT
DTSTART:20250309T030000
TZOFFSETFROM:-0500
TZOFFSETTO:-0400
TZNAME:EDT
END:DAYLIGHT
END:VTIMEZONE
END:VCALENDAR