BEGIN:VCALENDAR
VERSION:2.0
PRODID:-//wp-events-plugin.com//7.2.3.1//EN
TZID:America/New_York
X-WR-TIMEZONE:America/New_York
BEGIN:VEVENT
UID:153357@kingstonhappenings.org
DTSTART;TZID=America/New_York:20260110T190000
DTEND;TZID=America/New_York:20260110T190000
DTSTAMP:20260105T131346Z
URL:https://kingstonhappenings.org/events/robert-burke-warrens-bowie-birth
 day-bash-26/
SUMMARY:Robert Burke Warren's Bowie Birthday Bash '26
DESCRIPTION:Robert Burke Warren's much-beloved annual Bowie Birthday Bash r
 eturns to Colony Woodstock! With an ace seven-piece band\, and an-always e
 xciting list of Special Guests\, RBW and his crew deliver an evening of Da
 vid Bowie music spanning the icon’s entire career: 1969’s “Space Odd
 ity\,” selections from his 70s heyday\, Serious Moonlight-era cuts\, tun
 es from 2016’s Blackstar\, and a few surprises.\nhttps://www.robertburke
 warren.com/
ATTACH;FMTTYPE=image/jpeg:https://kingstonhappenings.org/wp-content/upload
 s/2026/01/591971897_1529688835409291_9109474033490994687_n.jpg
CATEGORIES:@Featured,@Newsletter,Music,Nightlife and entertainment
LOCATION:Colony Woodstock NY\, 22 Rock City Rd\, Woodstock\, New York\, Uni
 ted States
GEO:42.0424924;-74.11799489999999
X-APPLE-STRUCTURED-LOCATION;VALUE=URI;X-ADDRESS=22 Rock City Rd\, Woodstock
 \, New York\, United States;X-APPLE-RADIUS=100;X-TITLE=Colony Woodstock NY
 :geo:42.0424924,-74.11799489999999
END:VEVENT
BEGIN:VTIMEZONE
TZID:America/New_York
X-LIC-LOCATION:America/New_York
BEGIN:STANDARD
DTSTART:20251102T010000
TZOFFSETFROM:-0400
TZOFFSETTO:-0500
TZNAME:EST
END:STANDARD
END:VTIMEZONE
END:VCALENDAR