BEGIN:VCALENDAR
VERSION:2.0
PRODID:-//wp-events-plugin.com//7.2.3.1//EN
TZID:America/New_York
X-WR-TIMEZONE:America/New_York
BEGIN:VEVENT
UID:152037@kingstonhappenings.org
DTSTART;TZID=America/New_York:20251004T190000
DTEND;TZID=America/New_York:20251004T220000
DTSTAMP:20250929T144755Z
URL:https://kingstonhappenings.org/events/rob-scheps-core-tet/
SUMMARY:Rob Scheps Core-tet
DESCRIPTION:Rob Scheps – saxophone/ flute\n\nJamie Reynolds-piano\n\nCame
 ron Brown – bass\n\nMatt Garrity – drums\n\n&nbsp\;\n\nSaxophone/fluti
 st/composer Rob Scheps (Gil Evans Orchestra\, Vanguard Jazz Orchestra\, Or
 egon Symphony\, Aretha Franklin\, Ray Charles\, Liza Minnelli\, Linda Rons
 tadt) brings his quartet of equally accomplished musicians to Lydia’s Ca
 fé for a night of jazz standards and original music by Scheps. A must see
  for jazz lovers!\n\nJoin us for dinner and drinks including “the best d
 uck in the Hudson Valley”\n\nSuggested $20 donation for music\n\nReserva
 tions are recommended – call 845-687-NERD (6373)
ATTACH;FMTTYPE=image/jpeg:https://kingstonhappenings.org/wp-content/upload
 s/2025/09/2025.10.04_Coretet.jpg
CATEGORIES:@Featured,@Newsletter,Music
LOCATION:Lydia's Cafe\, 7 Old U.S. 209\, Stone Ridge\, New York\, United St
 ates
GEO:41.8306145;-74.17658890000001
X-APPLE-STRUCTURED-LOCATION;VALUE=URI;X-ADDRESS=7 Old U.S. 209\, Stone Ridg
 e\, New York\, United States;X-APPLE-RADIUS=100;X-TITLE=Lydia's Cafe:geo:4
 1.8306145,-74.17658890000001
END:VEVENT
BEGIN:VTIMEZONE
TZID:America/New_York
X-LIC-LOCATION:America/New_York
BEGIN:DAYLIGHT
DTSTART:20250309T030000
TZOFFSETFROM:-0500
TZOFFSETTO:-0400
TZNAME:EDT
END:DAYLIGHT
END:VTIMEZONE
END:VCALENDAR