BEGIN:VCALENDAR
VERSION:2.0
PRODID:-//wp-events-plugin.com//7.2.3.1//EN
TZID:America/New_York
X-WR-TIMEZONE:America/New_York
BEGIN:VEVENT
UID:153324@kingstonhappenings.org
DTSTART;TZID=America/New_York:20260102T190000
DTEND;TZID=America/New_York:20260102T190000
DTSTAMP:20251229T160138Z
URL:https://kingstonhappenings.org/events/roadhouse-60s-a-tribute-to-the-m
 usic-of-the-1960s/
SUMMARY:ROADHOUSE 60's - A Tribute to the Music of the 1960's
DESCRIPTION:Roadhouse 60's is a 60's Rock tribute band dedicated to playing
  only the danceable hits that made Billboard's Top 20 charts. The band was
  formed in 2013 by Tom Sperl\, who went by the name Time Machine\, playing
  Classic Rock with various musicians. In 2017\, Tom replaced the drummer w
 ith Dave Ryan and decided to focus on 1960's rock and roll. After the guit
 ar player stepped down\, Steve Atwood and Mike Stabile joined the band. Th
 ey changed their name to Roadhouse 60's in 2017 and doubled their appearan
 ces\, reaching larger audiences. In 2018\, they became the house band for 
 radio station WGNY 98.9 Fox Oldies. After Dave Ryan left the group in 2021
 \, Richie Cottet joined as the drummer/singer. Roadhouse 60's now plays al
 most 70 shows a year\, reaching audiences from Stamford\, Connecticut to L
 ake George.
ATTACH;FMTTYPE=image/jpeg:https://kingstonhappenings.org/wp-content/upload
 s/2025/12/594963600_1506417407950483_661999501442039140_n.jpg
CATEGORIES:@Featured,@Newsletter,Music,Nightlife and entertainment
LOCATION:Colony Woodstock NY\, 22 Rock City Rd\, Woodstock\, New York\, Uni
 ted States
GEO:42.0424924;-74.11799489999999
X-APPLE-STRUCTURED-LOCATION;VALUE=URI;X-ADDRESS=22 Rock City Rd\, Woodstock
 \, New York\, United States;X-APPLE-RADIUS=100;X-TITLE=Colony Woodstock NY
 :geo:42.0424924,-74.11799489999999
END:VEVENT
BEGIN:VTIMEZONE
TZID:America/New_York
X-LIC-LOCATION:America/New_York
BEGIN:STANDARD
DTSTART:20251102T010000
TZOFFSETFROM:-0400
TZOFFSETTO:-0500
TZNAME:EST
END:STANDARD
END:VTIMEZONE
END:VCALENDAR