BEGIN:VCALENDAR
VERSION:2.0
PRODID:-//wp-events-plugin.com//7.2.3.1//EN
TZID:America/New_York
X-WR-TIMEZONE:America/New_York
BEGIN:VEVENT
UID:155776@kingstonhappenings.org
DTSTART;TZID=America/New_York:20260321T100000
DTEND;TZID=America/New_York:20260321T150000
DTSTAMP:20260316T191024Z
URL:https://kingstonhappenings.org/events/rivers-through-oceans-in/
SUMMARY:Rivers Through\, Oceans In
DESCRIPTION:\n\n\n\n\nRivers through\, Oceans in is a collaborative and so
 matic movement workshop taught by Maya Schwartz and Jessy Crist. In this w
 orkshop we will explore the body’s natural tides of movement and connect
 ion to internal waters through creative practice\, contemporary dance\, so
 matic practice\, and contact improvisation.\n\nMaya will guide dancers th
 rough a series of falling and exploring disorientation\, floor work\, and 
 contact improvisation informed by the physical qualities of water – its 
 weight\, flow\, resistance\, and capacity to carry and transform. Movement
  will emerge from the body’s material impulses\, guided by the “storie
 s” that live within each of us.\n\n\n\n\n\n\n\n\n\n\nJessy will work wi
 th identity and creative impulse as central mediums that inform durational
  and effortful movement. We will explore what time looks like on our bodie
 s\, guided by effort\, pleasure\, and deep\nlistening to our bodies’ ind
 ividual stories. Through phrasework\, guided improvisational tasks\, and a
 uthentic movement exploration\, we will investigate our individual and col
 lective movement languages.\n\nTogether\, Maya and Jessy will combine the
 ir individual approaches to movement and creative process through group an
 d solo work throughout the workshop. Dancers will be encouraged to create 
 and learn movement that takes risks and is physically expressive. This wor
 kshop invites participants to channel their own stories as a starting poin
 t for movement\, exploring how personal narrative and sensation can inform
  individual and collective exploration.\n\n\n$70-100 sliding scale for the
  whole day\, $40 drop in fee for a half day.\n\nIf you’re only able to a
 ttend two hours or less of this workshop\, you’re welcome to contribute 
 $40 for a half-day option.\n\n2 free spots for BIPOC folx\n\n\n\n
ATTACH;FMTTYPE=image/jpeg:https://kingstonhappenings.org/wp-content/upload
 s/2026/03/Header-Image-1.jpg
CATEGORIES:@Featured,@Newsletter,Dance,Educational classes and lectures
LOCATION:WildHeart: Center for Performance and Embodiment Practice\, 183 Ea
 st Road\, Wallkill\, NY\, 12589\, United States
GEO:41.588939;-74.05362
X-APPLE-STRUCTURED-LOCATION;VALUE=URI;X-ADDRESS=183 East Road\, Wallkill\, 
 NY\, 12589\, United States;X-APPLE-RADIUS=100;X-TITLE=WildHeart: Center fo
 r Performance and Embodiment Practice:geo:41.588939,-74.05362
END:VEVENT
BEGIN:VTIMEZONE
TZID:America/New_York
X-LIC-LOCATION:America/New_York
BEGIN:DAYLIGHT
DTSTART:20260308T030000
TZOFFSETFROM:-0500
TZOFFSETTO:-0400
TZNAME:EDT
END:DAYLIGHT
END:VTIMEZONE
END:VCALENDAR