BEGIN:VCALENDAR
VERSION:2.0
PRODID:-//wp-events-plugin.com//7.2.3.1//EN
TZID:America/New_York
X-WR-TIMEZONE:America/New_York
BEGIN:VEVENT
UID:156345@kingstonhappenings.org
DTSTART;TZID=America/New_York:20260424T180000
DTEND;TZID=America/New_York:20260424T210000
DTSTAMP:20260419T190707Z
URL:https://kingstonhappenings.org/events/river-city-rampage-26-pro-wrestl
 ing-fundraiser-for-clean-water-ecpw-x-nyec/
SUMMARY:River City Rampage \\\\\\'26 Pro Wrestling Fundraiser for Clean Wat
 er ECPW x NYec
DESCRIPTION:Back at the Andy Murphy Neighborhood center for the 4th year! T
 his year we’re wrestling for the rivers! In the main event Tommy Dreamer
  is coming to Kingston to challenge for the ECPW HV Heavyweight Title in a
  3-Way match vs Captain Pain vs MJ Stax!\n\nOrder your tickets now: https:
 //www.zeffy.com/en-US/ticketing/wrestling-2\n\n&nbsp\;\n\nEvery registrati
 on to this event brings us forward in our mission. Together\, we can keep 
 our rivers and waters clean for all!
ATTACH;FMTTYPE=image/jpeg:https://kingstonhappenings.org/wp-content/upload
 s/2026/04/IMG_20260313_152538-reduced-scaled.jpg
CATEGORIES:@Featured,@Newsletter,Sports and recreation
LOCATION:Andy Murphy Midtown Center\, 467 Broadway\, Kingston\, NY\, 12401\
 , United States
GEO:41.927036;-73.99919999999997
X-APPLE-STRUCTURED-LOCATION;VALUE=URI;X-ADDRESS=467 Broadway\, Kingston\, N
 Y\, 12401\, United States;X-APPLE-RADIUS=100;X-TITLE=Andy Murphy Midtown C
 enter:geo:41.927036,-73.99919999999997
END:VEVENT
BEGIN:VTIMEZONE
TZID:America/New_York
X-LIC-LOCATION:America/New_York
BEGIN:DAYLIGHT
DTSTART:20260308T030000
TZOFFSETFROM:-0500
TZOFFSETTO:-0400
TZNAME:EDT
END:DAYLIGHT
END:VTIMEZONE
END:VCALENDAR