BEGIN:VCALENDAR
VERSION:2.0
PRODID:-//wp-events-plugin.com//7.2.3.1//EN
TZID:America/New_York
X-WR-TIMEZONE:America/New_York
BEGIN:VEVENT
UID:151848@kingstonhappenings.org
DTSTART;TZID=America/New_York:20250919T193000
DTEND;TZID=America/New_York:20250919T193000
DTSTAMP:20250922T150138Z
URL:https://kingstonhappenings.org/events/richard-lloyds-television/
SUMMARY:Richard Lloyd's TELEVISION
DESCRIPTION:With the band Television\, Lloyd helped put CBGB on the map\, h
 oning in on a mix of art-rock melodies\, angular improvisation and antagon
 ist attitude a generation before the current indie-jam movement.
ATTACH;FMTTYPE=image/jpeg:https://kingstonhappenings.org/wp-content/upload
 s/2025/09/514312917_1141609898001281_7871899000040000258_n.jpg
CATEGORIES:@Featured,@Newsletter,Music,Nightlife and entertainment
LOCATION:The Falcon\, 1348 Route 9W\, Marlboro\, NY\, United States
GEO:41.6061213;-73.97065420000001
X-APPLE-STRUCTURED-LOCATION;VALUE=URI;X-ADDRESS=1348 Route 9W\, Marlboro\, 
 NY\, United States;X-APPLE-RADIUS=100;X-TITLE=The Falcon:geo:41.6061213,-7
 3.97065420000001
END:VEVENT
BEGIN:VTIMEZONE
TZID:America/New_York
X-LIC-LOCATION:America/New_York
BEGIN:DAYLIGHT
DTSTART:20250309T030000
TZOFFSETFROM:-0500
TZOFFSETTO:-0400
TZNAME:EDT
END:DAYLIGHT
END:VTIMEZONE
END:VCALENDAR