BEGIN:VCALENDAR
VERSION:2.0
PRODID:-//wp-events-plugin.com//7.2.3.1//EN
TZID:America/New_York
X-WR-TIMEZONE:America/New_York
BEGIN:VEVENT
UID:156442@kingstonhappenings.org
DTSTART;TZID=America/New_York:20260509T100000
DTEND;TZID=America/New_York:20260509T140000
DTSTAMP:20260425T132221Z
URL:https://kingstonhappenings.org/events/rhinebeck-repair-cafe-2/
SUMMARY:Rhinebeck Repair Cafe
DESCRIPTION:Get your "broken but beloved" stuff fixed FREE! by one of our v
 olunteer Repair Coaches. People bring all kinds of things to the Repair Ca
 fe to be fixed: clocks\, chairs\, jewelry\, digital devices and computers\
 , wooden accessories\, ceramics\, lamps\, vacuum cleaners\, small electric
 al appliacnes\, clothing and others textiles. Available in May at the Rhin
 ebeck location will be welding and metal repairs\, as well as mower blade 
 sharpening and balancing (participants are encouraged to contribute to fue
 l and material expenses). Also in May: A representative from Cornell Coope
 rative Extension will provide information on energy-saving strategies and 
 on how to apply for New York State energy-efficiency and energy-assistance
  programs
ATTACH;FMTTYPE=image/jpeg:https://kingstonhappenings.org/wp-content/upload
 s/2026/04/Rhinebeck-Repair-Cafe-Photo-Steve.jpg
CATEGORIES:@Featured,Community
LOCATION:Pavilion at Brookmeade\, 34 Brookmeade Drive\, Rhinebeck\, NY\, 12
 572\, United States
GEO:41.928091;-73.893002
X-APPLE-STRUCTURED-LOCATION;VALUE=URI;X-ADDRESS=34 Brookmeade Drive\, Rhine
 beck\, NY\, 12572\, United States;X-APPLE-RADIUS=100;X-TITLE=Pavilion at B
 rookmeade:geo:41.928091,-73.893002
END:VEVENT
BEGIN:VTIMEZONE
TZID:America/New_York
X-LIC-LOCATION:America/New_York
BEGIN:DAYLIGHT
DTSTART:20260308T030000
TZOFFSETFROM:-0500
TZOFFSETTO:-0400
TZNAME:EDT
END:DAYLIGHT
END:VTIMEZONE
END:VCALENDAR