BEGIN:VCALENDAR
VERSION:2.0
PRODID:-//wp-events-plugin.com//7.2.3.1//EN
TZID:America/New_York
X-WR-TIMEZONE:America/New_York
BEGIN:VEVENT
UID:152221@kingstonhappenings.org
DTSTART;TZID=America/New_York:20251012T110000
DTEND;TZID=America/New_York:20251012T123000
DTSTAMP:20251007T201153Z
URL:https://kingstonhappenings.org/events/relax-rejuvenate-revitalize-a-gu
 ided-energy-experience/
SUMMARY:Relax\, Rejuvenate\, Revitalize: A Guided Energy Experience
DESCRIPTION:Discover the restorative power of three healing energies—Guid
 ed Meditation\, Healing Frequencies of the Monlina\, and Reiki Energy—br
 aided together in one unique session designed to relax the body\, rejuvena
 te the spirit\, and revitalize your whole being. This experience will be l
 ed by practitioners Carl Thomsen\, Barbara Schofield Thomsen\, and Laura C
 hristman.\nChairs and limited yoga mats will be available.\nWear comfortab
 le clothes and bring along any cushiony support you desire.\nRegister and 
 get tickets:\n\nhttps://www.eventbrite.com/e/relax-rejuvenate-revitalize-a
 -guided-energy-experience-tickets-1693669142999?aff=oddtdtcreator
ATTACH;FMTTYPE=image/jpeg:https://kingstonhappenings.org/wp-content/upload
 s/2025/10/RRR.jpg
CATEGORIES:@Featured,Educational classes and lectures
LOCATION:Athens Cultural Center\, 24 Second St.\, Athens\, NY\, United Stat
 es
GEO:42.26042;-73.809144
X-APPLE-STRUCTURED-LOCATION;VALUE=URI;X-ADDRESS=24 Second St.\, Athens\, NY
 \, United States;X-APPLE-RADIUS=100;X-TITLE=Athens Cultural Center:geo:42.
 26042,-73.809144
END:VEVENT
BEGIN:VTIMEZONE
TZID:America/New_York
X-LIC-LOCATION:America/New_York
BEGIN:DAYLIGHT
DTSTART:20250309T030000
TZOFFSETFROM:-0500
TZOFFSETTO:-0400
TZNAME:EDT
END:DAYLIGHT
END:VTIMEZONE
END:VCALENDAR