BEGIN:VCALENDAR
VERSION:2.0
PRODID:-//wp-events-plugin.com//7.2.3.1//EN
TZID:America/New_York
X-WR-TIMEZONE:America/New_York
BEGIN:VEVENT
UID:151963@kingstonhappenings.org
DTSTART;TZID=America/New_York:20250929T180000
DTEND;TZID=America/New_York:20251020T200000
DTSTAMP:20250922T211530Z
URL:https://kingstonhappenings.org/events/reiki-2-certification-workshop-s
 eries/
SUMMARY:Reiki 2 Certification Workshop Series
DESCRIPTION:https://www.sunyulster.edu/learn-at-suny-ulster/continuing-educ
 ation-professional-development/life-leisure-youth/health-wellness.php\n\nY
 ou will experience Reiki 2 Initiations\, practice\, certification\, Distan
 t healing\, and Healing on Tables.  Copy and paste the link for all detai
 ls .  Two times for the same classes are being offered:  Mondays from 3:
 30-5:30 PM  or 6-8 PM.  Call the school at 845-339-2025  for more infor
 mation or to register.  You may text your teacher/sensei\, Lorry Salluzzi
  Sensei\, at 516-708-5213\n\nGassho\, Lorry
ATTACH;FMTTYPE=image/jpeg:https://kingstonhappenings.org/wp-content/upload
 s/2025/09/suny-ulster-1.jpeg
CATEGORIES:Educational classes and lectures,Health, fitness, yoga, martial
 arts and other classes
LOCATION:SUNY Ulster Continuing and Professional Education\, 94 Marys Ave \
 , Kingston\, New York \, 12401\, United States
GEO:41.9221636;-73.99863299999998
X-APPLE-STRUCTURED-LOCATION;VALUE=URI;X-ADDRESS=94 Marys Ave \, Kingston\, 
 New York \, 12401\, United States;X-APPLE-RADIUS=100;X-TITLE=SUNY Ulster C
 ontinuing and Professional Education:geo:41.9221636,-73.99863299999998
END:VEVENT
BEGIN:VTIMEZONE
TZID:America/New_York
X-LIC-LOCATION:America/New_York
BEGIN:DAYLIGHT
DTSTART:20250309T030000
TZOFFSETFROM:-0500
TZOFFSETTO:-0400
TZNAME:EDT
END:DAYLIGHT
END:VTIMEZONE
END:VCALENDAR