BEGIN:VCALENDAR
VERSION:2.0
PRODID:-//wp-events-plugin.com//7.2.3.1//EN
TZID:America/New_York
X-WR-TIMEZONE:America/New_York
BEGIN:VEVENT
UID:154697@kingstonhappenings.org
DTSTART;TZID=America/New_York:20260110T100000
DTEND;TZID=America/New_York:20260110T123000
DTSTAMP:20260107T010019Z
URL:https://kingstonhappenings.org/events/reiki-1-certification-workshop/
SUMMARY:Reiki 1 Certification Workshop
DESCRIPTION:\nUNLEASH YOUR INNER ARTIST\nA REIKI I ACERTIFICATION\nAre you 
 feeling stuck in your creative process? Do you dream of expressing yoursel
 f more fully through art\, music\, writing\, or design? This unique Reiki 
 I workshop is specifically designed for creatives\, artists\, and anyone l
 ooking to deepen their connection to their intuition and unlock a more vib
 rant flow of artistic expression. Lorry will reward a Reiki I Certificatio
 n through email after completion of the workshop.\nQuestions about this wo
 rkshop? Give us a call!  845-768-5080\n\nOur main address:\n\nCornell Cre
 ative Arts Center\n\n129 Cornell Street\, Kingston NY 12401\n\nOur Ceramic
 s Studio: 80 Bruyn Ave\, Kingston NY 12401 (Right around the back of the b
 uilding!)\n\nVisit our website to learn more about us and our other offeri
 ngs! CCACNY.ORG\n\nSTEP BY STEP GUIDE TO REGISTRATION HELP (COPY &amp\; PA
 STE IN BROWSER): https://ccacny.org/wp-content/uploads/2024/10/How-to-Regi
 ster-on-Sawyer.pdf\n\n\n&nbsp\;\n\nhttps://www.hisawyer.com/cornell-creati
 ve-arts-center/schedules/activity-set/1676948
ATTACH;FMTTYPE=image/jpeg:https://kingstonhappenings.org/wp-content/upload
 s/2026/01/cornell.jpeg
CATEGORIES:@Featured,@Newsletter,Educational classes and lectures,Health,
 fitness, yoga, martial arts and other classes
LOCATION:Cornell Creative Arts Center\, 129 Cornell St. \, Kingston\, NY\, 
 12401\, United States
GEO:41.932942;-73.99999
X-APPLE-STRUCTURED-LOCATION;VALUE=URI;X-ADDRESS=129 Cornell St. \, Kingston
 \, NY\, 12401\, United States;X-APPLE-RADIUS=100;X-TITLE=Cornell Creative 
 Arts Center:geo:41.932942,-73.99999
END:VEVENT
BEGIN:VTIMEZONE
TZID:America/New_York
X-LIC-LOCATION:America/New_York
BEGIN:STANDARD
DTSTART:20251102T010000
TZOFFSETFROM:-0400
TZOFFSETTO:-0500
TZNAME:EST
END:STANDARD
END:VTIMEZONE
END:VCALENDAR