BEGIN:VCALENDAR
VERSION:2.0
PRODID:-//wp-events-plugin.com//7.2.3.1//EN
TZID:America/New_York
X-WR-TIMEZONE:America/New_York
BEGIN:VEVENT
UID:156393@kingstonhappenings.org
DTSTART;TZID=America/New_York:20260423T170000
DTEND;TZID=America/New_York:20260423T190000
DTSTAMP:20260420T141933Z
URL:https://kingstonhappenings.org/events/rehab-night-out/
SUMMARY:Rehab Night Out
DESCRIPTION:Calling all rehab professionals! PTs • OTs • SLPs • PTAs 
 • COTAs\nJoin us for a Rehab Night Out and enjoy Free Drinks\, Food\, DJ
 \, Raffles\, and Great Company!\nKnow another PT\, OT\, or SLP? Bring them
  along!\nRSVP by April 6 to 845.416.4261
ATTACH;FMTTYPE=image/jpeg:https://kingstonhappenings.org/wp-content/upload
 s/2026/04/654207535_1718043392983406_8242614709980084535_n.jpg
CATEGORIES:@Featured,@Newsletter,Community,Nightlife and
 entertainment,Restaurant promotions
LOCATION:The Cornell Restaurant + Bar\, 100 Rondout Landing\, KINGSTON\, NY
 \, 12401\, United States
GEO:41.919617;-73.979588
X-APPLE-STRUCTURED-LOCATION;VALUE=URI;X-ADDRESS=100 Rondout Landing\, KINGS
 TON\, NY\, 12401\, United States;X-APPLE-RADIUS=100;X-TITLE=The Cornell Re
 staurant + Bar:geo:41.919617,-73.979588
END:VEVENT
BEGIN:VTIMEZONE
TZID:America/New_York
X-LIC-LOCATION:America/New_York
BEGIN:DAYLIGHT
DTSTART:20260308T030000
TZOFFSETFROM:-0500
TZOFFSETTO:-0400
TZNAME:EDT
END:DAYLIGHT
END:VTIMEZONE
END:VCALENDAR