BEGIN:VCALENDAR
VERSION:2.0
PRODID:-//wp-events-plugin.com//7.2.3.1//EN
TZID:America/New_York
X-WR-TIMEZONE:America/New_York
BEGIN:VEVENT
UID:156075@kingstonhappenings.org
DTSTART;TZID=America/New_York:20260403T150000
DTEND;TZID=America/New_York:20260403T150000
DTSTAMP:20260406T124420Z
URL:https://kingstonhappenings.org/events/reelin-in-the-years-an-all-star-
 tribute-to-steely-dan/
SUMMARY:Reelin’ In The Years: An All Star Tribute to Steely Dan
DESCRIPTION:Reelin’ in the Years celebrates the timeless music of Steel
 y Dan. Comprised of world class touring and recording session musicians th
 at reads like a who’s who in the music industry\, including bandleader a
 nd drummer Jerry Marotta.\n\nBased in Woodstock\, NY\, the current lineup
  includes vocalists Joey Eppard\, known for his work with the progressive
  band 3\, and Lindsey Skeye\, alongside guitarist Matt Finck (Randy Bre
 cker). Jennifer Maidman brings her expertise on the bass from collaborat
 ions with Boy George\, and Sarah Power handles the keyboards. The sound 
 is enriched by a four-piece horn section featuring Jay Collins (Donald F
 agan)\, Bill Harris (Lynyrd Skynyrd)\, Chris Pasin (Buddy Rich)\, and
  John Fumosli (Average White Band).\n\nDon’t miss your chance to see t
 his legendary group of musicians live in concert
ATTACH;FMTTYPE=image/jpeg:https://kingstonhappenings.org/wp-content/upload
 s/2026/03/626305712_1311152364380366_139105317866543775_n.jpg
CATEGORIES:@Featured,@Newsletter,Music,Nightlife and entertainment
LOCATION:The Falcon\, 1348 Route 9W\, Marlboro\, NY\, United States
GEO:41.6061213;-73.97065420000001
X-APPLE-STRUCTURED-LOCATION;VALUE=URI;X-ADDRESS=1348 Route 9W\, Marlboro\, 
 NY\, United States;X-APPLE-RADIUS=100;X-TITLE=The Falcon:geo:41.6061213,-7
 3.97065420000001
END:VEVENT
BEGIN:VTIMEZONE
TZID:America/New_York
X-LIC-LOCATION:America/New_York
BEGIN:DAYLIGHT
DTSTART:20260308T030000
TZOFFSETFROM:-0500
TZOFFSETTO:-0400
TZNAME:EDT
END:DAYLIGHT
END:VTIMEZONE
END:VCALENDAR