BEGIN:VCALENDAR
VERSION:2.0
PRODID:-//wp-events-plugin.com//7.2.3.1//EN
TZID:America/New_York
X-WR-TIMEZONE:America/New_York
BEGIN:VEVENT
UID:152735@kingstonhappenings.org
DTSTART;TZID=America/New_York:20251206T200000
DTEND;TZID=America/New_York:20251206T220000
DTSTAMP:20251201T191833Z
URL:https://kingstonhappenings.org/events/rebellious-burlesque-anti-capita
 list-holiday-show/
SUMMARY:Rebellious Burlesque: Anti-Capitalist Holiday Show
DESCRIPTION:Join us for a night of defiant delight and anticapitalist cheer
  on Friday\, December 6th\, at the Unicorn Bar in Kingston\, NY. An evenin
 g where resistance meets revelry\, where burlesque\, drag\, and performanc
 e art strike back against the systems that starve\, silence\, and sell us.
  This isn’t your average holiday show\; it’s a raw\, radical celebrati
 on of community\, rage\, and revolutionary joy.\n\nPresented by Ame and Th
 e Lady Slipper\, this two-hour ritual of rebellion invites you to explore 
 burlesque\, political parody\, and raw expressions of oppression\, confron
 ting it all head-on as resistance takes center stage. Through feminist gor
 e\, camp chaos\, and dark humor\, performers transform pain into power\, c
 alling for labor revolt\, collective care\, and radical joy.\n\nDetails:\n
 &#x1f378\; Bar opens at 5 PM for snacks &amp\; libations\n&#x1f6aa\; Doors
  at 7 PM |  Show at 8 PM\n&#x1f4b3\; $25 in advance | $30 at the door\n&#
 x1f4cd\; Unicorn Bar\, 224 Foxhall Ave\, Kingston\, NY\n&#x1f51e\; 21+ onl
 y\n&#x1f4b8\; Bring cash to tip and enter our raffle for prizes\n\nFeaturi
 ng Performances by:\n&#x1f3a4\;Ame (host &amp\; vocalist)\n&#x2764\;&#xfe0
 f\;&#x200d\;&#x1f525\;The Lady Slipper (Burlesque)\n&#x1f460\;Ghula Mortis
 se  (Burlesque)\n&#x1f5e3\;&#xfe0f\;Chrissy Bunz (Burlesque)\n&#x1f4aa\;A
 xl Rosie (Burlesque)\n&#x1f479\;Janine Extreme (Drag)\n&#x1f941\;Jaybird A
 rtivist (Draglesque)\n&#x1f408\;&#x200d\;&#x2b1b\;Champagne Vixen (Kitten)
 \n\nNo holiday consumerism. No empty cheer. Just bodies in motion\, art as
  resistance\, and glitter as protest.\n\nLet’s strip the system bare.
ATTACH;FMTTYPE=image/jpeg:https://kingstonhappenings.org/wp-content/upload
 s/2025/11/Rebellious_Dec-1920-x-1080-px-3.png
CATEGORIES:@Featured,@Newsletter,Art,Comedy,Dance,Music,Theater
LOCATION:Unicorn Bar\, 224 Foxhall Ave.\, KINGSTON\, NY\, 12401\, United St
 ates
GEO:41.933684;-73.996845
X-APPLE-STRUCTURED-LOCATION;VALUE=URI;X-ADDRESS=224 Foxhall Ave.\, KINGSTON
 \, NY\, 12401\, United States;X-APPLE-RADIUS=100;X-TITLE=Unicorn Bar:geo:4
 1.933684,-73.996845
END:VEVENT
BEGIN:VTIMEZONE
TZID:America/New_York
X-LIC-LOCATION:America/New_York
BEGIN:STANDARD
DTSTART:20251102T010000
TZOFFSETFROM:-0400
TZOFFSETTO:-0500
TZNAME:EST
END:STANDARD
END:VTIMEZONE
END:VCALENDAR