BEGIN:VCALENDAR
VERSION:2.0
PRODID:-//wp-events-plugin.com//7.2.3.1//EN
TZID:America/New_York
X-WR-TIMEZONE:America/New_York
BEGIN:VEVENT
UID:155363@kingstonhappenings.org
DTSTART;TZID=America/New_York:20260220T200000
DTEND;TZID=America/New_York:20260220T200000
DTSTAMP:20260216T142944Z
URL:https://kingstonhappenings.org/events/ramona-lane-electric-chords/
SUMMARY:Ramona Lane & Electric Chords
DESCRIPTION:We are excited to welcome Ramona Lane &amp\; Electric Chords to
  the Keegan Ales Stage!\nRamona Lane is a four piece Rhythm and Punk group
  from the Hudson Valley in New York. Their mission is the spread vibes and
  get jiggy.\n\nCheck them out here! 
ATTACH;FMTTYPE=image/jpeg:https://kingstonhappenings.org/wp-content/upload
 s/2026/02/ka-1.jpg
CATEGORIES:@Featured,@Newsletter
LOCATION:Keegan Ales\, 20 Saint James Street\, Kingston\, NY\, 12401\, Unit
 ed States
GEO:41.931504;-74.01187
X-APPLE-STRUCTURED-LOCATION;VALUE=URI;X-ADDRESS=20 Saint James Street\, Kin
 gston\, NY\, 12401\, United States;X-APPLE-RADIUS=100;X-TITLE=Keegan Ales:
 geo:41.931504,-74.01187
END:VEVENT
BEGIN:VTIMEZONE
TZID:America/New_York
X-LIC-LOCATION:America/New_York
BEGIN:STANDARD
DTSTART:20251102T010000
TZOFFSETFROM:-0400
TZOFFSETTO:-0500
TZNAME:EST
END:STANDARD
END:VTIMEZONE
END:VCALENDAR