BEGIN:VCALENDAR
VERSION:2.0
PRODID:-//wp-events-plugin.com//7.2.3.1//EN
TZID:America/New_York
X-WR-TIMEZONE:America/New_York
BEGIN:VEVENT
UID:152999@kingstonhappenings.org
DTSTART;TZID=America/New_York:20251206T120000
DTEND;TZID=America/New_York:20251206T170000
DTSTAMP:20251201T191706Z
URL:https://kingstonhappenings.org/events/radio-kingston-wkny-joys-for-tot
 s/
SUMMARY:Radio Kingston / WKNY Joys for Tots
DESCRIPTION:adio Kingston is proud to host our annual Joys for Tots holiday
  toy drive at Frank Guido’s Little Italy\, this Saturday\, December 6th.
 Bring a new\, unwrapped toy to Frank Guido’s Little Italy between noon a
 nd 5 PM and say hello to Warren Lawrence and other hosts and staff from Ra
 dio Kingston during our live broadcast.All donations will go towards Proje
 ct Santa\, an annual program by People’s Place that provides children al
 l across Ulster County with toys and gifts for the holidays.As a thank-you
 \, you’ll receive a 10% appreciation certificate to be used at any of th
 e Guido family restaurants.For more information\, click the Promo tab at 
 RadioKingston.org.
ATTACH;FMTTYPE=image/jpeg:https://kingstonhappenings.org/wp-content/upload
 s/2025/12/491709972_1767066250739401_2530909012855039715_n.jpg
CATEGORIES:@Featured,@Newsletter,Community
LOCATION:Frank Guidos Little Italy\, 14 Thomas St.\, Kingston\, NY\, 12401\
 , United States
GEO:41.929272;-74.00220300000001
X-APPLE-STRUCTURED-LOCATION;VALUE=URI;X-ADDRESS=14 Thomas St.\, Kingston\, 
 NY\, 12401\, United States;X-APPLE-RADIUS=100;X-TITLE=Frank Guidos Little 
 Italy:geo:41.929272,-74.00220300000001
END:VEVENT
BEGIN:VTIMEZONE
TZID:America/New_York
X-LIC-LOCATION:America/New_York
BEGIN:STANDARD
DTSTART:20251102T010000
TZOFFSETFROM:-0400
TZOFFSETTO:-0500
TZNAME:EST
END:STANDARD
END:VTIMEZONE
END:VCALENDAR