BEGIN:VCALENDAR
VERSION:2.0
PRODID:-//wp-events-plugin.com//7.2.3.1//EN
TZID:America/New_York
X-WR-TIMEZONE:America/New_York
BEGIN:VEVENT
UID:152585@kingstonhappenings.org
DTSTART;TZID=America/New_York:20251108T160000
DTEND;TZID=America/New_York:20251108T190000
DTSTAMP:20251105T201432Z
URL:https://kingstonhappenings.org/events/quieter-than-water-lower-than-gr
 ass-exhibition-opening/
SUMMARY:Quieter than Water Lower than Grass Exhibition Opening
DESCRIPTION:Roundabouts Now is pleased to present “Quieter than Water\, L
 ower than Grass\,” a solo presentation of new work by Viktorsha Uliyanov
 a. Recently commissioned by NYSCA and Arts Mid-Hudson\, in this new body o
 f work Uliyanova examines the fragility of memory and its impact on histor
 y\, immigrant narratives\, and cultural identity. The work uses analog pho
 tographic processes\, fabric\, and video to explore remembrance\, storytel
 ling\, and ancestral healing. Sourcing from family albums\, oral histories
 \, and archives\, she utilizes materials and techniques that reference mat
 rilineage\, domesticity\, and transgenerational trauma.The show takes its 
 name from a Soviet idiom that instills a behavior of keeping a low profile
 \, avoiding self-attention\, and acting in a way that does not generate co
 nflict. The phrase has been used as a deliberate linguistic tool to dissem
 inate imperialist ideologies\, generate fear\, and maintain repressive soc
 io-political tactics in the USSR. Through layering of fabrics and the deep
  blue hues of the cyanotype process\, the work visualizes histories that h
 ave been hidden\, obscured\, and lost. “Quieter than Water\, Lower than 
 Grass” emphasizes the importance of community knowledge and critical eng
 agement with dominant narratives in order to recognize their limitations a
 nd biases.
ATTACH;FMTTYPE=image/jpeg:https://kingstonhappenings.org/wp-content/upload
 s/2025/11/118-low-res-.jpg
CATEGORIES:@Featured,@Newsletter,Art,Community
LOCATION:Kingston Plaza\, 1 Plaza Rd.\, Kingston\, NY\, 12401\, United Stat
 es
GEO:41.937811;-74.01736299999999
X-APPLE-STRUCTURED-LOCATION;VALUE=URI;X-ADDRESS=1 Plaza Rd.\, Kingston\, NY
 \, 12401\, United States;X-APPLE-RADIUS=100;X-TITLE=Kingston Plaza:geo:41.
 937811,-74.01736299999999
END:VEVENT
BEGIN:VTIMEZONE
TZID:America/New_York
X-LIC-LOCATION:America/New_York
BEGIN:STANDARD
DTSTART:20251102T010000
TZOFFSETFROM:-0400
TZOFFSETTO:-0500
TZNAME:EST
END:STANDARD
END:VTIMEZONE
END:VCALENDAR