BEGIN:VCALENDAR
VERSION:2.0
PRODID:-//wp-events-plugin.com//7.2.3.1//EN
TZID:America/New_York
X-WR-TIMEZONE:America/New_York
BEGIN:VEVENT
UID:152625@kingstonhappenings.org
DTSTART;TZID=America/New_York:20251126T180000
DTEND;TZID=America/New_York:20251126T200000
DTSTAMP:20251109T224629Z
URL:https://kingstonhappenings.org/events/queer-trans-connections-network/
SUMMARY:Queer &amp\; Trans Connections Network
DESCRIPTION:Wednesday\, November 26\, 6:00 - 8:00 PM\nCreated by the Columb
 ia Greene Addiction Coalition\, the Queer &amp\; Trans Connection Network 
 offers a welcoming peer-led space for LGBTQ+ community members and allies 
 in Greene and Columbia Counties. Meeting monthly at the Athens Cultural Ce
 nter\, these gatherings provide connection\, conversation\, resource-shari
 ng\, and support in a substance-free environment for ages 14+. Together\, 
 we share experiences\, celebrate wins\, and build an affirming\, inclusive
  community close to home. FREE\n\n https://athensculturalcenter.org/upcom
 ing-events/queer-trans-connections-ld9jj
ATTACH;FMTTYPE=image/jpeg:https://kingstonhappenings.org/wp-content/upload
 s/2025/11/queertransconnections.jpg
CATEGORIES:@Featured,Community
LOCATION:Athens Cultural Center\, 24 Second St.\, Athens\, NY\, United Stat
 es
GEO:42.26042;-73.809144
X-APPLE-STRUCTURED-LOCATION;VALUE=URI;X-ADDRESS=24 Second St.\, Athens\, NY
 \, United States;X-APPLE-RADIUS=100;X-TITLE=Athens Cultural Center:geo:42.
 26042,-73.809144
END:VEVENT
BEGIN:VTIMEZONE
TZID:America/New_York
X-LIC-LOCATION:America/New_York
BEGIN:STANDARD
DTSTART:20251102T010000
TZOFFSETFROM:-0400
TZOFFSETTO:-0500
TZNAME:EST
END:STANDARD
END:VTIMEZONE
END:VCALENDAR