BEGIN:VCALENDAR
VERSION:2.0
PRODID:-//wp-events-plugin.com//7.2.3.1//EN
TZID:America/New_York
X-WR-TIMEZONE:America/New_York
BEGIN:VEVENT
UID:155722@kingstonhappenings.org
DTSTART;TZID=America/New_York:20260328T190000
DTEND;TZID=America/New_York:20260328T203000
DTSTAMP:20260324T190521Z
URL:https://kingstonhappenings.org/events/queer-box-office-hedwig-and-the-
 angry-inch/
SUMMARY:Queer Box Office: Hedwig and the Angry Inch
DESCRIPTION:Hedwig and the Angry Inch is a fiercely original rock odyssey t
 hat follows Hedwig Robinson\, an East German-born singer fronting a scrapp
 y glam band. Betrayed by a former protégé who’s risen to fame using he
 r songs\, Hedwig tells her story through electrifying performances that bl
 ur the line between concert and confession.\n\nDirected by and starring Jo
 hn Cameron Mitchell\, this cult favorite blends outrageous humor\, animate
 d interludes\, and a driving punk score to create a powerful story about i
 dentity\, resilience\, and the universal longing for love and self-accepta
 nce.\n\nThis film is presented by Big Gay Hudson and the Rosendale Theatre
  Collective.
ATTACH;FMTTYPE=image/jpeg:https://kingstonhappenings.org/wp-content/upload
 s/2026/03/Hedwig-and-the-Angry-Inch-sm.jpg
CATEGORIES:@Featured,@Newsletter,Movies
LOCATION:Rosendale Theater\, 408 Main St\, Rosendale\, New York\, 12472\, U
 nited States
GEO:41.8441401;-74.0821133
X-APPLE-STRUCTURED-LOCATION;VALUE=URI;X-ADDRESS=408 Main St\, Rosendale\, N
 ew York\, 12472\, United States;X-APPLE-RADIUS=100;X-TITLE=Rosendale Theat
 er:geo:41.8441401,-74.0821133
END:VEVENT
BEGIN:VTIMEZONE
TZID:America/New_York
X-LIC-LOCATION:America/New_York
BEGIN:DAYLIGHT
DTSTART:20260308T030000
TZOFFSETFROM:-0500
TZOFFSETTO:-0400
TZNAME:EDT
END:DAYLIGHT
END:VTIMEZONE
END:VCALENDAR