BEGIN:VCALENDAR
VERSION:2.0
PRODID:-//wp-events-plugin.com//7.2.3.1//EN
TZID:America/New_York
X-WR-TIMEZONE:America/New_York
BEGIN:VEVENT
UID:152275@kingstonhappenings.org
DTSTART;TZID=America/New_York:20251021T173000
DTEND;TZID=America/New_York:20251021T193000
DTSTAMP:20251020T162417Z
URL:https://kingstonhappenings.org/events/puzzle-night/
SUMMARY:Puzzle Night
DESCRIPTION:Join us for the first ever PUZZLE NIGHT! It's an evening of spe
 ed puzzling + friendly competition.\n\nFree to Enter\n\nSenate Garage\nOct
  21\, 5:30-7:30pm\n\nParticipants must register.\nJoin as team or as an in
 dividual.\nDrinks + Snacks at 5:30pm\n6pm = GAME ON!\n\nHosted by: CoWork 
 Kingston\n\nLearn more and SAVE YOUR SPOT 
ATTACH;FMTTYPE=image/jpeg:https://kingstonhappenings.org/wp-content/upload
 s/2025/10/CWK-Puzzle-Night-1.png
CATEGORIES:@Featured,@Newsletter,Community
LOCATION:Senate Garage\, 4 North Front St.\, KINGSTON\, NY\, 12401\, United
  States
GEO:41.935258;-74.018948
X-APPLE-STRUCTURED-LOCATION;VALUE=URI;X-ADDRESS=4 North Front St.\, KINGSTO
 N\, NY\, 12401\, United States;X-APPLE-RADIUS=100;X-TITLE=Senate Garage:ge
 o:41.935258,-74.018948
END:VEVENT
BEGIN:VTIMEZONE
TZID:America/New_York
X-LIC-LOCATION:America/New_York
BEGIN:DAYLIGHT
DTSTART:20250309T030000
TZOFFSETFROM:-0500
TZOFFSETTO:-0400
TZNAME:EDT
END:DAYLIGHT
END:VTIMEZONE
END:VCALENDAR