BEGIN:VCALENDAR
VERSION:2.0
PRODID:-//wp-events-plugin.com//7.2.3.1//EN
TZID:America/New_York
X-WR-TIMEZONE:America/New_York
BEGIN:VEVENT
UID:155365@kingstonhappenings.org
DTSTART;TZID=America/New_York:20260219T190000
DTEND;TZID=America/New_York:20260219T190000
DTSTAMP:20260218T165155Z
URL:https://kingstonhappenings.org/events/punk-night-w-cellmate-x-nachstal
 ker-x-dauber/
SUMMARY:Punk Night w/ Cellmate x Nachstalker x Dauber
DESCRIPTION:Colony Woodstock and Dropout Productions presents a new bi-mont
 hly series of Punk Nights! Kicking it off with 3 killer bands\, including 
 local favorites (Cellmate and Dauber)\, as well as Matt Witte's return to 
 the Colony with the debut of his new project\, Nachstalker!\nCELLMATE\nCel
 lmate is a Kingston\, New York–based project comprised of Maria Alvarez 
 and Steven Markota. The duo is backed by drummer Chris Gartmann and guitar
 ist Jacob Kolbinski. Influenced by the energy of garage rock\, the freedom
  of electronic music\, and the ethos of punk\, the duo has amassed a colle
 ction of songs sure to electrify and excite.\nNACHSTALKER\nVladimir Bejin 
 is a drummer originally from Belgrade\, Serbia\, best known for his work i
 n the local punk rock scene. He has been an active member of influential B
 elgrade bands such as Pogonbgd\, Prilično Prazni\, and Ttula Romansa\, co
 ntributing to multiple studio and live album releases.\nM. Witte plays gui
 tar and writes songs and sings. He’s played in quite a few bands explori
 ng many different genres\, but mainly genres steeped in large doses of gar
 age/psychobilly. His last band\, Coach N’ Commando\, Faster Baby Punks! 
 Kill! Kill! Kill was a 2 piece of country thrash put out on King Pizza Rec
 ords out of Brooklyn. He also plays some folk and Americana music on the s
 ide.\nDAUBER\nDauber is a punk band from Hudson\, NY. Formed in 2024 by Mi
 ke\, Jenna\, and Quinn. After releasing their debut LP\, ‘Falling Down
 ’ on Recess Records\, they’ve spent a chunk of 2025 doing regional DIY
  tours and self recording their follow up EP\, ‘At Home’.\n\n\nDCxPC L
 ive is a vinyl record label and live show promotion company specializing i
 n punk\, hardcore\, ska\, and metal. We capture the raw energy of the scen
 e on vinyl and bring it to life through live events that celebrate the uns
 toppable spirit of the punk rock community. At DCxPC Live\, we are dedicat
 ed to building and supporting an inclusive music scene that’s safe for e
 veryone. We believe in creating a space where art\, activism\, and communi
 ty come together. Rooted in punk rock\, we believe in its power to stand a
 gainst injustice and create positive change. Raw sound. Real community. Pu
 nk rock love. That’s the DCxPC Live way.
ATTACH;FMTTYPE=image/jpeg:https://kingstonhappenings.org/wp-content/upload
 s/2026/02/617287693_1538209561437934_176147550394899449_n.jpg
CATEGORIES:@Featured,@Newsletter,Music,Nightlife and entertainment
LOCATION:Colony Woodstock NY\, 22 Rock City Rd\, Woodstock\, New York\, Uni
 ted States
GEO:42.0424924;-74.11799489999999
X-APPLE-STRUCTURED-LOCATION;VALUE=URI;X-ADDRESS=22 Rock City Rd\, Woodstock
 \, New York\, United States;X-APPLE-RADIUS=100;X-TITLE=Colony Woodstock NY
 :geo:42.0424924,-74.11799489999999
END:VEVENT
BEGIN:VTIMEZONE
TZID:America/New_York
X-LIC-LOCATION:America/New_York
BEGIN:STANDARD
DTSTART:20251102T010000
TZOFFSETFROM:-0400
TZOFFSETTO:-0500
TZNAME:EST
END:STANDARD
END:VTIMEZONE
END:VCALENDAR