BEGIN:VCALENDAR
VERSION:2.0
PRODID:-//wp-events-plugin.com//7.2.3.1//EN
TZID:America/New_York
X-WR-TIMEZONE:America/New_York
BEGIN:VEVENT
UID:154933@kingstonhappenings.org
DTSTART;TZID=America/New_York:20260308T160000
DTEND;TZID=America/New_York:20260308T220000
DTSTAMP:20260302T202520Z
URL:https://kingstonhappenings.org/events/punk-island-benefit-show/
SUMMARY:Punk Island Benefit Show
DESCRIPTION:Punk Island Benefit Show\n\nBenefit for Punk Island: All ages 1
 00% free DIY punk fest/community in NYC\n4PM\, Music at 5PM Sharp - We put
  the punk in punctuality!\n$5-$10 Suggested Donation\n21+\n1st. Sad Witch 
 Collective - Poughkeepsie Metal (HV)\n2nd. PTCHWRK - Femme Fronted Emo Pun
 k (HV)\n3rd. Coffee With Lions - Melodic Hardcore Punk (PA)\n4th. Going Ra
 te - Ska Punk (NYC)\n5th. Jukebox Romantics - Downstate NY Heart-Felt Part
 y Punk\n6th. Escape Rope - Like trying to hold liquid mercury in your hand
 s (HV)\nTickets\nDirect Donation\n\n
CATEGORIES:@Featured,@Newsletter,Music,Nightlife and entertainment
LOCATION:Snapper Magee's\, 59 N. Front St.\, Kingston\, New York\, 12401\, 
 United States
GEO:41.9352932;-74.02125000000001
X-APPLE-STRUCTURED-LOCATION;VALUE=URI;X-ADDRESS=59 N. Front St.\, Kingston\
 , New York\, 12401\, United States;X-APPLE-RADIUS=100;X-TITLE=Snapper Mage
 e's:geo:41.9352932,-74.02125000000001
END:VEVENT
BEGIN:VTIMEZONE
TZID:America/New_York
X-LIC-LOCATION:America/New_York
BEGIN:DAYLIGHT
DTSTART:20260308T030000
TZOFFSETFROM:-0500
TZOFFSETTO:-0400
TZNAME:EDT
END:DAYLIGHT
END:VTIMEZONE
END:VCALENDAR