BEGIN:VCALENDAR
VERSION:2.0
PRODID:-//wp-events-plugin.com//7.2.3.1//EN
TZID:America/New_York
X-WR-TIMEZONE:America/New_York
BEGIN:VEVENT
UID:152125@kingstonhappenings.org
DTSTART;TZID=America/New_York:20251101T100000
DTEND;TZID=America/New_York:20251101T153000
DTSTAMP:20251029T115316Z
URL:https://kingstonhappenings.org/events/pumpkins-pigs/
SUMMARY:Pumpkins + Pigs
DESCRIPTION:Pumpkins and Pigs is back! Join us for special tours on Novembe
 r 1st to feed pumpkins to rescued pigs and enjoy a festive day at Woodstoc
 k Sanctuary. Get tickets for a public tour at 10am\, 12pm or 2pm on Nov. 1
 st to get in on the fun. Costumes welcome and encouraged!
CATEGORIES:@Featured,@Newsletter
LOCATION:Woodstock Farm Sanctuary\, 2 Rescue Rd.\, High Falls \, New York\,
  12440\, United States
GEO:41.8095874;-74.1687162
X-APPLE-STRUCTURED-LOCATION;VALUE=URI;X-ADDRESS=2 Rescue Rd.\, High Falls \
 , New York\, 12440\, United States;X-APPLE-RADIUS=100;X-TITLE=Woodstock Fa
 rm Sanctuary:geo:41.8095874,-74.1687162
END:VEVENT
BEGIN:VTIMEZONE
TZID:America/New_York
X-LIC-LOCATION:America/New_York
BEGIN:DAYLIGHT
DTSTART:20250309T030000
TZOFFSETFROM:-0500
TZOFFSETTO:-0400
TZNAME:EDT
END:DAYLIGHT
END:VTIMEZONE
END:VCALENDAR