BEGIN:VCALENDAR
VERSION:2.0
PRODID:-//wp-events-plugin.com//7.2.3.1//EN
TZID:America/New_York
X-WR-TIMEZONE:America/New_York
BEGIN:VEVENT
UID:156418@kingstonhappenings.org
DTSTART;TZID=America/New_York:20260505T073000
DTEND;TZID=America/New_York:20260505T163000
DTSTAMP:20260422T030227Z
URL:https://kingstonhappenings.org/events/public-birding-day-dia-de-pajare
 o/
SUMMARY:Public Birding Day | Día de pajareo
DESCRIPTION:Español Abajo\n\nJoin us for a self-guided birding day at the 
 Hudson Valley Farm Hub! Observe Bobolinks\, Eastern Meadowlarks\, American
  Kestrels\, and Savannah Sparrows during the nesting season with the chanc
 e to observe less common species.\n\nWe welcome the community to walk a 1.
 3-mile loop around our grassland bird field and to observe the different h
 abitats such as a pond\, creeks\, meadows\, and the floodplain forest. Com
 munity members are welcome to come between 7:30 am and 4:30 pm to observe 
 birds on the trail as long as desired. The Applied Farmscape Ecology Progr
 am team will be available to answer any questions halfway through the trai
 l. The terrain includes mostly flat gravel roads and minimal shade in some
  areas.\n\nAll ages are welcome. Participants under 18 must be accompanied
  by a parent or guardian. The event will conclude at 4:30 PM. We kindly as
 k that all guests depart at that time.\n\nRegistration is required.\n\nEn 
 Español:\n\nAcompáñanos a un día de observación de aves autoguiado en
  el Hudson Valley Farm Hub! Observa especies como el Tordo Arrocero\, Prad
 ero Tortillaconchile\, Cernícalo y Gorrión Sabanero durante su temporad
 a de anidación\, con la posibilidad de ver especies menos comunes.\n\nInv
 itamos a la comunidad a recorrer un circuito de 1.3 millas alrededor de nu
 estro campo de aves de pastizal y a explorar diferentes hábitats como un 
 estanque\, arroyos\, praderas y el bosque de llanura aluvial. Los miembros
  de la comunidad pueden llegar entre las 7:30 a.m. y las 4:30 p.m. y perma
 necer en el sendero el tiempo que deseen para observar aves.\n\nEl equipo 
 del Programa de Ecología del Agro-Paisaje Aplicada estará disponible a m
 itad del sendero para responder cualquier pregunta. El terreno es mayormen
 te plano\, con caminos de grava y poca sombra en algunas áreas.\n\nPerson
 as de todas las edades son bienvenidas. Los menores de 18 años deben esta
 r acompañados por un padre\, madre o tutor. El evento concluirá a las 4:
 30 p.m. y amablemente pedimos que todos los visitantes se retiren a esa ho
 ra.\n\nSe requiere registración
CATEGORIES:@Featured
LOCATION:Hudson Valley Farm Hub\, 1875 Hurley Mountain Road\, Hurley\, NY\,
  12401\, United States
GEO:41.912641;-74.091545
X-APPLE-STRUCTURED-LOCATION;VALUE=URI;X-ADDRESS=1875 Hurley Mountain Road\,
  Hurley\, NY\, 12401\, United States;X-APPLE-RADIUS=100;X-TITLE=Hudson Val
 ley Farm Hub:geo:41.912641,-74.091545
END:VEVENT
BEGIN:VTIMEZONE
TZID:America/New_York
X-LIC-LOCATION:America/New_York
BEGIN:DAYLIGHT
DTSTART:20260308T030000
TZOFFSETFROM:-0500
TZOFFSETTO:-0400
TZNAME:EDT
END:DAYLIGHT
END:VTIMEZONE
END:VCALENDAR