BEGIN:VCALENDAR
VERSION:2.0
PRODID:-//wp-events-plugin.com//7.2.3.1//EN
TZID:America/New_York
X-WR-TIMEZONE:America/New_York
BEGIN:VEVENT
UID:152439@kingstonhappenings.org
DTSTART;TZID=America/New_York:20251030T160000
DTEND;TZID=America/New_York:20251030T180000
DTSTAMP:20251029T115310Z
URL:https://kingstonhappenings.org/events/prosecco-pumpkins-sip-create-and
 -connect/
SUMMARY:Prosecco & Pumpkins - Sip\, Create\, and Connect
DESCRIPTION:\n\nAn intimate\, design-forward community gathering - enjoy pr
 osecco\, light bites\, &amp\; crafting pumpkins while connecting with one 
 another.\n\n\n\n\n\n\n\n\n\nJoin us at 314 Wall St on October 30\, 2025\,
  at 4:00 PM for a festive\, creative evening celebrating fall\, design\, 
 and community.\n\nThis complimentary event is co-hosted by Jennifer Lynn I
 nteriors &amp\; The Designery:\n\nJennifer Lynn Interiors is a Kingston-b
 ased interior design firm known for creating beautiful\, intentional space
 s to gather. Now\, we’re inviting our community to experience that same 
 spirit of creativity and connection firsthand.\n\nOwner Jennifer Tampasis'
  background in education comes to life at our Sip &amp\; Create events\, w
 here guests enjoy a relaxed\, hands-on activity paired with a bit of desig
 n insight. You’ll learn how to incorporate design elements into your cra
 ft while creating something unique to take home.\n\nAt The Designery Huds
 on Valley\, we believe great design should feel personal\, purposeful\, an
 d effortlessly exceptional. From kitchens and closets to baths\, flooring\
 , and countertops\, we create spaces that reflect your lifestyle and value
 s — built with honesty and care.\n\nWe’re excited to share a major mil
 estone: our Uptown Kingston showroom opens in November! Designed as a coll
 aborative space for clients and designers alike\, it’s where materials\,
  textures\, and layouts come to life — and where inspiration meets craft
 smanship.\n\n---\n\nEnjoy a glass of prosecco\, meet new friends\, and get
  inspired by local design. We can’t wait to see you there!\n\n\n\n\n\n
ATTACH;FMTTYPE=image/jpeg:https://kingstonhappenings.org/wp-content/upload
 s/2025/10/download.jpeg
CATEGORIES:@Featured,@Newsletter,Art,Community,Educational classes and
 lectures,Happy Hours,Health, fitness, yoga, martial arts and other classes
LOCATION:Jenniferlynn Interiors\, 314 Wall St. 2nd Floor\, KINGSTON\, NY\, 
 12401\, United States
GEO:41.93442;-74.01964
X-APPLE-STRUCTURED-LOCATION;VALUE=URI;X-ADDRESS=314 Wall St. 2nd Floor\, KI
 NGSTON\, NY\, 12401\, United States;X-APPLE-RADIUS=100;X-TITLE=Jenniferlyn
 n Interiors:geo:41.93442,-74.01964
END:VEVENT
BEGIN:VTIMEZONE
TZID:America/New_York
X-LIC-LOCATION:America/New_York
BEGIN:DAYLIGHT
DTSTART:20250309T030000
TZOFFSETFROM:-0500
TZOFFSETTO:-0400
TZNAME:EDT
END:DAYLIGHT
END:VTIMEZONE
END:VCALENDAR